BEGIN:VCALENDAR
VERSION:2.0
PRODID:-//WCU Comm Department - ECPv6.15.20//NONSGML v1.0//EN
CALSCALE:GREGORIAN
METHOD:PUBLISH
X-ORIGINAL-URL:https://affiliate.wcu.edu/comm
X-WR-CALDESC:Events for WCU Comm Department
REFRESH-INTERVAL;VALUE=DURATION:PT1H
X-Robots-Tag:noindex
X-PUBLISHED-TTL:PT1H
BEGIN:VTIMEZONE
TZID:UTC
BEGIN:STANDARD
TZOFFSETFROM:+0000
TZOFFSETTO:+0000
TZNAME:UTC
DTSTART:20210101T000000
END:STANDARD
END:VTIMEZONE
BEGIN:VEVENT
DTSTART;TZID=UTC:20220404T090000
DTEND;TZID=UTC:20220404T110000
DTSTAMP:20260420T164649
CREATED:20220316T190420Z
LAST-MODIFIED:20220316T190420Z
UID:17312-1649062800-1649070000@affiliate.wcu.edu
SUMMARY:TV Studio Open Hours – CAT 110
DESCRIPTION:
URL:https://affiliate.wcu.edu/comm/event/tv-studio-open-hours-cat-110-40/
LOCATION:CAT 110
CATEGORIES:Lab Equipment Checkout Hours,Studio and Lab Hours
ATTACH;FMTTYPE=image/jpeg:https://affiliate.wcu.edu/comm/wp-content/uploads/sites/187/2018/08/logo-purpleonwhite.jpg
END:VEVENT
BEGIN:VEVENT
DTSTART;TZID=UTC:20220401T100000
DTEND;TZID=UTC:20220401T120000
DTSTAMP:20260420T164649
CREATED:20220316T190117Z
LAST-MODIFIED:20220316T190117Z
UID:17303-1648807200-1648814400@affiliate.wcu.edu
SUMMARY:Lab Equipment Checkout - Stillwell 259
DESCRIPTION:
URL:https://affiliate.wcu.edu/comm/event/lab-equipment-checkout-stillwell-259-83/
LOCATION:Stillwell 259
CATEGORIES:Lab Equipment Checkout Hours,Studio and Lab Hours
ATTACH;FMTTYPE=image/jpeg:https://affiliate.wcu.edu/comm/wp-content/uploads/sites/187/2018/08/logo-purpleonwhite.jpg
END:VEVENT
BEGIN:VEVENT
DTSTART;TZID=UTC:20220331T153000
DTEND;TZID=UTC:20220331T173000
DTSTAMP:20260420T164649
CREATED:20220129T040407Z
LAST-MODIFIED:20220129T040407Z
UID:17118-1648740600-1648747800@affiliate.wcu.edu
SUMMARY:Lab Equipment Checkout - Stillwell 259
DESCRIPTION:
URL:https://affiliate.wcu.edu/comm/event/lab-equipment-checkout-stillwell-259-67/
LOCATION:Stillwell 259
CATEGORIES:Lab Equipment Checkout Hours,Studio and Lab Hours
ATTACH;FMTTYPE=image/jpeg:https://affiliate.wcu.edu/comm/wp-content/uploads/sites/187/2018/08/logo-purpleonwhite.jpg
END:VEVENT
BEGIN:VEVENT
DTSTART;TZID=UTC:20220330T123000
DTEND;TZID=UTC:20220330T143000
DTSTAMP:20260420T164649
CREATED:20220129T040308Z
LAST-MODIFIED:20220221T164255Z
UID:17116-1648643400-1648650600@affiliate.wcu.edu
SUMMARY:Lab Equipment Checkout - Stillwell 259
DESCRIPTION:
URL:https://affiliate.wcu.edu/comm/event/lab-equipment-checkout-stillwell-259-66/
LOCATION:Stillwell 259
CATEGORIES:Lab Equipment Checkout Hours,Studio and Lab Hours
ATTACH;FMTTYPE=image/jpeg:https://affiliate.wcu.edu/comm/wp-content/uploads/sites/187/2018/08/logo-purpleonwhite.jpg
END:VEVENT
BEGIN:VEVENT
DTSTART;TZID=UTC:20220329T153000
DTEND;TZID=UTC:20220329T173000
DTSTAMP:20260420T164649
CREATED:20220129T040230Z
LAST-MODIFIED:20220129T040238Z
UID:17114-1648567800-1648575000@affiliate.wcu.edu
SUMMARY:Lab Equipment Checkout - Stillwell 259
DESCRIPTION:
URL:https://affiliate.wcu.edu/comm/event/lab-equipment-checkout-stillwell-259-65/
LOCATION:Stillwell 259
CATEGORIES:Lab Equipment Checkout Hours,Studio and Lab Hours
ATTACH;FMTTYPE=image/jpeg:https://affiliate.wcu.edu/comm/wp-content/uploads/sites/187/2018/08/logo-purpleonwhite.jpg
END:VEVENT
BEGIN:VEVENT
DTSTART;TZID=UTC:20220328T123000
DTEND;TZID=UTC:20220328T143000
DTSTAMP:20260420T164649
CREATED:20220221T163115Z
LAST-MODIFIED:20220221T163115Z
UID:17213-1648470600-1648477800@affiliate.wcu.edu
SUMMARY:Lab Equipment Checkout - Stillwell 259
DESCRIPTION:
URL:https://affiliate.wcu.edu/comm/event/lab-equipment-checkout-stillwell-259-53/
LOCATION:Stillwell 259
CATEGORIES:Lab Equipment Checkout Hours,Studio and Lab Hours
ATTACH;FMTTYPE=image/jpeg:https://affiliate.wcu.edu/comm/wp-content/uploads/sites/187/2018/08/logo-purpleonwhite.jpg
END:VEVENT
BEGIN:VEVENT
DTSTART;TZID=UTC:20220328T100000
DTEND;TZID=UTC:20220328T120000
DTSTAMP:20260420T164649
CREATED:20220129T040203Z
LAST-MODIFIED:20220221T162638Z
UID:17112-1648461600-1648468800@affiliate.wcu.edu
SUMMARY:Lab Equipment Checkout - Stillwell 259
DESCRIPTION:
URL:https://affiliate.wcu.edu/comm/event/lab-equipment-checkout-stillwell-259-64/
LOCATION:Stillwell 259
CATEGORIES:Lab Equipment Checkout Hours,Studio and Lab Hours
ATTACH;FMTTYPE=image/jpeg:https://affiliate.wcu.edu/comm/wp-content/uploads/sites/187/2018/08/logo-purpleonwhite.jpg
END:VEVENT
BEGIN:VEVENT
DTSTART;TZID=UTC:20220325T100000
DTEND;TZID=UTC:20220325T120000
DTSTAMP:20260420T164649
CREATED:20220129T040132Z
LAST-MODIFIED:20220221T164646Z
UID:17110-1648202400-1648209600@affiliate.wcu.edu
SUMMARY:Lab Equipment Checkout - Stillwell 259
DESCRIPTION:
URL:https://affiliate.wcu.edu/comm/event/lab-equipment-checkout-stillwell-259-63/
LOCATION:Stillwell 259
CATEGORIES:Lab Equipment Checkout Hours,Studio and Lab Hours
ATTACH;FMTTYPE=image/jpeg:https://affiliate.wcu.edu/comm/wp-content/uploads/sites/187/2018/08/logo-purpleonwhite.jpg
END:VEVENT
BEGIN:VEVENT
DTSTART;TZID=UTC:20220324T153000
DTEND;TZID=UTC:20220324T173000
DTSTAMP:20260420T164649
CREATED:20220129T040104Z
LAST-MODIFIED:20220129T040104Z
UID:17108-1648135800-1648143000@affiliate.wcu.edu
SUMMARY:Lab Equipment Checkout - Stillwell 259
DESCRIPTION:
URL:https://affiliate.wcu.edu/comm/event/lab-equipment-checkout-stillwell-259-62/
LOCATION:Stillwell 259
CATEGORIES:Lab Equipment Checkout Hours,Studio and Lab Hours
ATTACH;FMTTYPE=image/jpeg:https://affiliate.wcu.edu/comm/wp-content/uploads/sites/187/2018/08/logo-purpleonwhite.jpg
END:VEVENT
BEGIN:VEVENT
DTSTART;TZID=UTC:20220323T123000
DTEND;TZID=UTC:20220323T143000
DTSTAMP:20260420T164649
CREATED:20220129T040030Z
LAST-MODIFIED:20220221T164226Z
UID:17106-1648038600-1648045800@affiliate.wcu.edu
SUMMARY:Lab Equipment Checkout - Stillwell 259
DESCRIPTION:
URL:https://affiliate.wcu.edu/comm/event/lab-equipment-checkout-stillwell-259-61/
LOCATION:Stillwell 259
CATEGORIES:Lab Equipment Checkout Hours,Studio and Lab Hours
ATTACH;FMTTYPE=image/jpeg:https://affiliate.wcu.edu/comm/wp-content/uploads/sites/187/2018/08/logo-purpleonwhite.jpg
END:VEVENT
BEGIN:VEVENT
DTSTART;TZID=UTC:20220322T153000
DTEND;TZID=UTC:20220322T173000
DTSTAMP:20260420T164649
CREATED:20220129T035959Z
LAST-MODIFIED:20220129T035959Z
UID:17104-1647963000-1647970200@affiliate.wcu.edu
SUMMARY:Lab Equipment Checkout - Stillwell 259
DESCRIPTION:
URL:https://affiliate.wcu.edu/comm/event/lab-equipment-checkout-stillwell-259-60/
LOCATION:Stillwell 259
CATEGORIES:Lab Equipment Checkout Hours,Studio and Lab Hours
ATTACH;FMTTYPE=image/jpeg:https://affiliate.wcu.edu/comm/wp-content/uploads/sites/187/2018/08/logo-purpleonwhite.jpg
END:VEVENT
BEGIN:VEVENT
DTSTART;TZID=UTC:20220321T123000
DTEND;TZID=UTC:20220321T143000
DTSTAMP:20260420T164649
CREATED:20220221T163036Z
LAST-MODIFIED:20220221T163036Z
UID:17211-1647865800-1647873000@affiliate.wcu.edu
SUMMARY:Lab Equipment Checkout - Stillwell 259
DESCRIPTION:
URL:https://affiliate.wcu.edu/comm/event/lab-equipment-checkout-stillwell-259-52/
LOCATION:Stillwell 259
CATEGORIES:Lab Equipment Checkout Hours,Studio and Lab Hours
ATTACH;FMTTYPE=image/jpeg:https://affiliate.wcu.edu/comm/wp-content/uploads/sites/187/2018/08/logo-purpleonwhite.jpg
END:VEVENT
BEGIN:VEVENT
DTSTART;TZID=UTC:20220321T100000
DTEND;TZID=UTC:20220321T120000
DTSTAMP:20260420T164649
CREATED:20220129T035928Z
LAST-MODIFIED:20220221T162602Z
UID:17102-1647856800-1647864000@affiliate.wcu.edu
SUMMARY:Lab Equipment Checkout - Stillwell 259
DESCRIPTION:
URL:https://affiliate.wcu.edu/comm/event/lab-equipment-checkout-stillwell-259-59/
LOCATION:Stillwell 259
CATEGORIES:Lab Equipment Checkout Hours,Studio and Lab Hours
ATTACH;FMTTYPE=image/jpeg:https://affiliate.wcu.edu/comm/wp-content/uploads/sites/187/2018/08/logo-purpleonwhite.jpg
END:VEVENT
BEGIN:VEVENT
DTSTART;TZID=UTC:20220318T100000
DTEND;TZID=UTC:20220318T120000
DTSTAMP:20260420T164649
CREATED:20220129T035850Z
LAST-MODIFIED:20220221T164606Z
UID:17100-1647597600-1647604800@affiliate.wcu.edu
SUMMARY:Lab Equipment Checkout - Stillwell 259
DESCRIPTION:
URL:https://affiliate.wcu.edu/comm/event/lab-equipment-checkout-stillwell-259-58/
LOCATION:Stillwell 259
CATEGORIES:Lab Equipment Checkout Hours,Studio and Lab Hours
ATTACH;FMTTYPE=image/jpeg:https://affiliate.wcu.edu/comm/wp-content/uploads/sites/187/2018/08/logo-purpleonwhite.jpg
END:VEVENT
BEGIN:VEVENT
DTSTART;TZID=UTC:20220317T153000
DTEND;TZID=UTC:20220317T173000
DTSTAMP:20260420T164649
CREATED:20220129T035817Z
LAST-MODIFIED:20220129T035817Z
UID:17098-1647531000-1647538200@affiliate.wcu.edu
SUMMARY:Lab Equipment Checkout - Stillwell 259
DESCRIPTION:
URL:https://affiliate.wcu.edu/comm/event/lab-equipment-checkout-stillwell-259-57/
LOCATION:Stillwell 259
CATEGORIES:Lab Equipment Checkout Hours,Studio and Lab Hours
ATTACH;FMTTYPE=image/jpeg:https://affiliate.wcu.edu/comm/wp-content/uploads/sites/187/2018/08/logo-purpleonwhite.jpg
END:VEVENT
BEGIN:VEVENT
DTSTART;TZID=UTC:20220316T123000
DTEND;TZID=UTC:20220316T143000
DTSTAMP:20260420T164649
CREATED:20220129T035748Z
LAST-MODIFIED:20220221T164150Z
UID:17096-1647433800-1647441000@affiliate.wcu.edu
SUMMARY:Lab Equipment Checkout - Stillwell 259
DESCRIPTION:
URL:https://affiliate.wcu.edu/comm/event/lab-equipment-checkout-stillwell-259-56/
LOCATION:Stillwell 259
CATEGORIES:Lab Equipment Checkout Hours,Studio and Lab Hours
ATTACH;FMTTYPE=image/jpeg:https://affiliate.wcu.edu/comm/wp-content/uploads/sites/187/2018/08/logo-purpleonwhite.jpg
END:VEVENT
BEGIN:VEVENT
DTSTART;TZID=UTC:20220315T153000
DTEND;TZID=UTC:20220315T173000
DTSTAMP:20260420T164649
CREATED:20220129T035722Z
LAST-MODIFIED:20220129T035722Z
UID:17094-1647358200-1647365400@affiliate.wcu.edu
SUMMARY:Lab Equipment Checkout - Stillwell 259
DESCRIPTION:
URL:https://affiliate.wcu.edu/comm/event/lab-equipment-checkout-stillwell-259-55/
LOCATION:Stillwell 259
CATEGORIES:Lab Equipment Checkout Hours,Studio and Lab Hours
ATTACH;FMTTYPE=image/jpeg:https://affiliate.wcu.edu/comm/wp-content/uploads/sites/187/2018/08/logo-purpleonwhite.jpg
END:VEVENT
BEGIN:VEVENT
DTSTART;TZID=UTC:20220314T123000
DTEND;TZID=UTC:20220314T143000
DTSTAMP:20260420T164649
CREATED:20220221T163005Z
LAST-MODIFIED:20220221T163005Z
UID:17209-1647261000-1647268200@affiliate.wcu.edu
SUMMARY:Lab Equipment Checkout - Stillwell 259
DESCRIPTION:
URL:https://affiliate.wcu.edu/comm/event/lab-equipment-checkout-stillwell-259-51/
LOCATION:Stillwell 259
CATEGORIES:Lab Equipment Checkout Hours,Studio and Lab Hours
ATTACH;FMTTYPE=image/jpeg:https://affiliate.wcu.edu/comm/wp-content/uploads/sites/187/2018/08/logo-purpleonwhite.jpg
END:VEVENT
BEGIN:VEVENT
DTSTART;TZID=UTC:20220314T100000
DTEND;TZID=UTC:20220314T120000
DTSTAMP:20260420T164649
CREATED:20220129T035652Z
LAST-MODIFIED:20220221T162531Z
UID:17092-1647252000-1647259200@affiliate.wcu.edu
SUMMARY:Lab Equipment Checkout - Stillwell 259
DESCRIPTION:
URL:https://affiliate.wcu.edu/comm/event/lab-equipment-checkout-stillwell-259-54/
LOCATION:Stillwell 259
CATEGORIES:Lab Equipment Checkout Hours,Studio and Lab Hours
ATTACH;FMTTYPE=image/jpeg:https://affiliate.wcu.edu/comm/wp-content/uploads/sites/187/2018/08/logo-purpleonwhite.jpg
END:VEVENT
BEGIN:VEVENT
DTSTART;TZID=UTC:20220304T100000
DTEND;TZID=UTC:20220304T120000
DTSTAMP:20260420T164649
CREATED:20220129T035219Z
LAST-MODIFIED:20220221T164446Z
UID:17080-1646388000-1646395200@affiliate.wcu.edu
SUMMARY:Lab Equipment Checkout - Stillwell 259
DESCRIPTION:
URL:https://affiliate.wcu.edu/comm/event/lab-equipment-checkout-stillwell-259-48/
LOCATION:Stillwell 259
CATEGORIES:Lab Equipment Checkout Hours,Studio and Lab Hours
ATTACH;FMTTYPE=image/jpeg:https://affiliate.wcu.edu/comm/wp-content/uploads/sites/187/2018/08/logo-purpleonwhite.jpg
END:VEVENT
BEGIN:VEVENT
DTSTART;TZID=UTC:20220303T153000
DTEND;TZID=UTC:20220303T173000
DTSTAMP:20260420T164649
CREATED:20220129T035148Z
LAST-MODIFIED:20220129T035148Z
UID:17078-1646321400-1646328600@affiliate.wcu.edu
SUMMARY:Lab Equipment Checkout - Stillwell 259
DESCRIPTION:
URL:https://affiliate.wcu.edu/comm/event/lab-equipment-checkout-stillwell-259-47/
LOCATION:Stillwell 259
CATEGORIES:Lab Equipment Checkout Hours,Studio and Lab Hours
ATTACH;FMTTYPE=image/jpeg:https://affiliate.wcu.edu/comm/wp-content/uploads/sites/187/2018/08/logo-purpleonwhite.jpg
END:VEVENT
BEGIN:VEVENT
DTSTART;TZID=UTC:20220302T123000
DTEND;TZID=UTC:20220302T143000
DTSTAMP:20260420T164649
CREATED:20220129T035116Z
LAST-MODIFIED:20220221T164042Z
UID:17076-1646224200-1646231400@affiliate.wcu.edu
SUMMARY:Lab Equipment Checkout - Stillwell 259
DESCRIPTION:
URL:https://affiliate.wcu.edu/comm/event/lab-equipment-checkout-stillwell-259-46/
LOCATION:Stillwell 259
CATEGORIES:Lab Equipment Checkout Hours,Studio and Lab Hours
ATTACH;FMTTYPE=image/jpeg:https://affiliate.wcu.edu/comm/wp-content/uploads/sites/187/2018/08/logo-purpleonwhite.jpg
END:VEVENT
BEGIN:VEVENT
DTSTART;TZID=UTC:20220301T153000
DTEND;TZID=UTC:20220301T173000
DTSTAMP:20260420T164649
CREATED:20220129T035037Z
LAST-MODIFIED:20220129T035037Z
UID:17074-1646148600-1646155800@affiliate.wcu.edu
SUMMARY:Lab Equipment Checkout - Stillwell 259
DESCRIPTION:
URL:https://affiliate.wcu.edu/comm/event/lab-equipment-checkout-stillwell-259-45/
LOCATION:Stillwell 259
CATEGORIES:Lab Equipment Checkout Hours,Studio and Lab Hours
ATTACH;FMTTYPE=image/jpeg:https://affiliate.wcu.edu/comm/wp-content/uploads/sites/187/2018/08/logo-purpleonwhite.jpg
END:VEVENT
BEGIN:VEVENT
DTSTART;TZID=UTC:20220228T123000
DTEND;TZID=UTC:20220228T143000
DTSTAMP:20260420T164649
CREATED:20220221T162847Z
LAST-MODIFIED:20220221T162847Z
UID:17205-1646051400-1646058600@affiliate.wcu.edu
SUMMARY:Lab Equipment Checkout - Stillwell 259
DESCRIPTION:
URL:https://affiliate.wcu.edu/comm/event/lab-equipment-checkout-stillwell-259-49/
LOCATION:Stillwell 259
CATEGORIES:Lab Equipment Checkout Hours,Studio and Lab Hours
ATTACH;FMTTYPE=image/jpeg:https://affiliate.wcu.edu/comm/wp-content/uploads/sites/187/2018/08/logo-purpleonwhite.jpg
END:VEVENT
BEGIN:VEVENT
DTSTART;TZID=UTC:20220228T100000
DTEND;TZID=UTC:20220228T120000
DTSTAMP:20260420T164649
CREATED:20220121T170944Z
LAST-MODIFIED:20220221T162422Z
UID:17004-1646042400-1646049600@affiliate.wcu.edu
SUMMARY:Lab Equipment Checkout - Stillwell 259
DESCRIPTION:
URL:https://affiliate.wcu.edu/comm/event/lab-equipment-checkout-stillwell-259-44/
LOCATION:Stillwell 259
CATEGORIES:Lab Equipment Checkout Hours,Studio and Lab Hours
ATTACH;FMTTYPE=image/jpeg:https://affiliate.wcu.edu/comm/wp-content/uploads/sites/187/2018/08/logo-purpleonwhite.jpg
END:VEVENT
BEGIN:VEVENT
DTSTART;TZID=UTC:20220225T100000
DTEND;TZID=UTC:20220225T120000
DTSTAMP:20260420T164649
CREATED:20220121T170900Z
LAST-MODIFIED:20220221T164416Z
UID:17002-1645783200-1645790400@affiliate.wcu.edu
SUMMARY:Lab Equipment Checkout - Stillwell 259
DESCRIPTION:
URL:https://affiliate.wcu.edu/comm/event/lab-equipment-checkout-stillwell-259-43/
LOCATION:Stillwell 259
CATEGORIES:Lab Equipment Checkout Hours,Studio and Lab Hours
ATTACH;FMTTYPE=image/jpeg:https://affiliate.wcu.edu/comm/wp-content/uploads/sites/187/2018/08/logo-purpleonwhite.jpg
END:VEVENT
BEGIN:VEVENT
DTSTART;TZID=UTC:20220224T153000
DTEND;TZID=UTC:20220224T173000
DTSTAMP:20260420T164649
CREATED:20220121T170826Z
LAST-MODIFIED:20220121T170826Z
UID:17000-1645716600-1645723800@affiliate.wcu.edu
SUMMARY:Lab Equipment Checkout - Stillwell 259
DESCRIPTION:
URL:https://affiliate.wcu.edu/comm/event/lab-equipment-checkout-stillwell-259-42/
LOCATION:Stillwell 259
CATEGORIES:Lab Equipment Checkout Hours,Studio and Lab Hours
ATTACH;FMTTYPE=image/jpeg:https://affiliate.wcu.edu/comm/wp-content/uploads/sites/187/2018/08/logo-purpleonwhite.jpg
END:VEVENT
BEGIN:VEVENT
DTSTART;TZID=UTC:20220223T123000
DTEND;TZID=UTC:20220223T143000
DTSTAMP:20260420T164649
CREATED:20220121T170737Z
LAST-MODIFIED:20220221T163907Z
UID:16998-1645619400-1645626600@affiliate.wcu.edu
SUMMARY:Lab Equipment Checkout - Stillwell 259
DESCRIPTION:
URL:https://affiliate.wcu.edu/comm/event/lab-equipment-checkout-stillwell-259-41/
LOCATION:Stillwell 259
CATEGORIES:Lab Equipment Checkout Hours,Studio and Lab Hours
ATTACH;FMTTYPE=image/jpeg:https://affiliate.wcu.edu/comm/wp-content/uploads/sites/187/2018/08/logo-purpleonwhite.jpg
END:VEVENT
BEGIN:VEVENT
DTSTART;TZID=UTC:20220221T123000
DTEND;TZID=UTC:20220221T143000
DTSTAMP:20260420T164649
CREATED:20220221T162812Z
LAST-MODIFIED:20220221T162812Z
UID:17203-1645446600-1645453800@affiliate.wcu.edu
SUMMARY:Lab Equipment Checkout - Stillwell 259
DESCRIPTION:
URL:https://affiliate.wcu.edu/comm/event/lab-equipment-checkout-stillwell-259-40/
LOCATION:Stillwell 259
CATEGORIES:Lab Equipment Checkout Hours,Studio and Lab Hours
ATTACH;FMTTYPE=image/jpeg:https://affiliate.wcu.edu/comm/wp-content/uploads/sites/187/2018/08/logo-purpleonwhite.jpg
END:VEVENT
BEGIN:VEVENT
DTSTART;TZID=UTC:20220221T100000
DTEND;TZID=UTC:20220221T120000
DTSTAMP:20260420T164649
CREATED:20220121T170631Z
LAST-MODIFIED:20220221T162320Z
UID:16994-1645437600-1645444800@affiliate.wcu.edu
SUMMARY:Lab Equipment Checkout - Stillwell 259
DESCRIPTION:
URL:https://affiliate.wcu.edu/comm/event/lab-equipment-checkout-stillwell-259-39/
LOCATION:Stillwell 259
CATEGORIES:Lab Equipment Checkout Hours,Studio and Lab Hours
ATTACH;FMTTYPE=image/jpeg:https://affiliate.wcu.edu/comm/wp-content/uploads/sites/187/2018/08/logo-purpleonwhite.jpg
END:VEVENT
END:VCALENDAR