BEGIN:VCALENDAR
VERSION:2.0
PRODID:-//WCU Comm Department - ECPv6.15.20//NONSGML v1.0//EN
CALSCALE:GREGORIAN
METHOD:PUBLISH
X-ORIGINAL-URL:https://affiliate.wcu.edu/comm
X-WR-CALDESC:Events for WCU Comm Department
REFRESH-INTERVAL;VALUE=DURATION:PT1H
X-Robots-Tag:noindex
X-PUBLISHED-TTL:PT1H
BEGIN:VTIMEZONE
TZID:UTC
BEGIN:STANDARD
TZOFFSETFROM:+0000
TZOFFSETTO:+0000
TZNAME:UTC
DTSTART:20210101T000000
END:STANDARD
END:VTIMEZONE
BEGIN:VEVENT
DTSTART;TZID=UTC:20220223T123000
DTEND;TZID=UTC:20220223T143000
DTSTAMP:20260420T194848
CREATED:20220121T170737Z
LAST-MODIFIED:20220221T163907Z
UID:16998-1645619400-1645626600@affiliate.wcu.edu
SUMMARY:Lab Equipment Checkout - Stillwell 259
DESCRIPTION:
URL:https://affiliate.wcu.edu/comm/event/lab-equipment-checkout-stillwell-259-41/
LOCATION:Stillwell 259
CATEGORIES:Lab Equipment Checkout Hours,Studio and Lab Hours
ATTACH;FMTTYPE=image/jpeg:https://affiliate.wcu.edu/comm/wp-content/uploads/sites/187/2018/08/logo-purpleonwhite.jpg
END:VEVENT
BEGIN:VEVENT
DTSTART;TZID=UTC:20220223T090000
DTEND;TZID=UTC:20220223T110000
DTSTAMP:20260420T194848
CREATED:20220121T172101Z
LAST-MODIFIED:20220121T172101Z
UID:17038-1645606800-1645614000@affiliate.wcu.edu
SUMMARY:TV Studio Open Hours – CAT 110
DESCRIPTION:
URL:https://affiliate.wcu.edu/comm/event/tv-studio-open-hours-cat-110-41/
LOCATION:CAT 110
CATEGORIES:Studio and Lab Hours,TV Studio Open Hours
ATTACH;FMTTYPE=image/jpeg:https://affiliate.wcu.edu/comm/wp-content/uploads/sites/187/2018/08/logo-purpleonwhite.jpg
END:VEVENT
BEGIN:VEVENT
DTSTART;VALUE=DATE:20220222
DTEND;VALUE=DATE:20220223
DTSTAMP:20260420T194848
CREATED:20220126T202114Z
LAST-MODIFIED:20220126T202114Z
UID:17057-1645488000-1645574399@affiliate.wcu.edu
SUMMARY:Advising Day
DESCRIPTION:
URL:https://affiliate.wcu.edu/comm/event/advising-day/
CATEGORIES:Meetings
ATTACH;FMTTYPE=image/jpeg:https://affiliate.wcu.edu/comm/wp-content/uploads/sites/187/2018/08/logo-purpleonwhite.jpg
END:VEVENT
BEGIN:VEVENT
DTSTART;TZID=UTC:20220221T123000
DTEND;TZID=UTC:20220221T143000
DTSTAMP:20260420T194848
CREATED:20220221T162812Z
LAST-MODIFIED:20220221T162812Z
UID:17203-1645446600-1645453800@affiliate.wcu.edu
SUMMARY:Lab Equipment Checkout - Stillwell 259
DESCRIPTION:
URL:https://affiliate.wcu.edu/comm/event/lab-equipment-checkout-stillwell-259-40/
LOCATION:Stillwell 259
CATEGORIES:Lab Equipment Checkout Hours,Studio and Lab Hours
ATTACH;FMTTYPE=image/jpeg:https://affiliate.wcu.edu/comm/wp-content/uploads/sites/187/2018/08/logo-purpleonwhite.jpg
END:VEVENT
BEGIN:VEVENT
DTSTART;TZID=UTC:20220221T100000
DTEND;TZID=UTC:20220221T120000
DTSTAMP:20260420T194848
CREATED:20220121T170631Z
LAST-MODIFIED:20220221T162320Z
UID:16994-1645437600-1645444800@affiliate.wcu.edu
SUMMARY:Lab Equipment Checkout - Stillwell 259
DESCRIPTION:
URL:https://affiliate.wcu.edu/comm/event/lab-equipment-checkout-stillwell-259-39/
LOCATION:Stillwell 259
CATEGORIES:Lab Equipment Checkout Hours,Studio and Lab Hours
ATTACH;FMTTYPE=image/jpeg:https://affiliate.wcu.edu/comm/wp-content/uploads/sites/187/2018/08/logo-purpleonwhite.jpg
END:VEVENT
BEGIN:VEVENT
DTSTART;TZID=UTC:20220221T090000
DTEND;TZID=UTC:20220221T110000
DTSTAMP:20260420T194848
CREATED:20220121T171953Z
LAST-MODIFIED:20220121T171953Z
UID:17034-1645434000-1645441200@affiliate.wcu.edu
SUMMARY:TV Studio Open Hours – CAT 110
DESCRIPTION:
URL:https://affiliate.wcu.edu/comm/event/tv-studio-open-hours-cat-110-39/
LOCATION:CAT 110
CATEGORIES:Studio and Lab Hours,TV Studio Open Hours
ATTACH;FMTTYPE=image/jpeg:https://affiliate.wcu.edu/comm/wp-content/uploads/sites/187/2018/08/logo-purpleonwhite.jpg
END:VEVENT
BEGIN:VEVENT
DTSTART;TZID=UTC:20220218T110000
DTEND;TZID=UTC:20220218T130000
DTSTAMP:20260420T194848
CREATED:20220121T171842Z
LAST-MODIFIED:20220121T171842Z
UID:17032-1645182000-1645189200@affiliate.wcu.edu
SUMMARY:TV Studio Open Hours – CAT 110
DESCRIPTION:
URL:https://affiliate.wcu.edu/comm/event/tv-studio-open-hours-cat-110-38/
LOCATION:CAT 110
CATEGORIES:TV Studio Open Hours
ATTACH;FMTTYPE=image/jpeg:https://affiliate.wcu.edu/comm/wp-content/uploads/sites/187/2018/08/logo-purpleonwhite.jpg
END:VEVENT
BEGIN:VEVENT
DTSTART;TZID=UTC:20220218T100000
DTEND;TZID=UTC:20220218T140000
DTSTAMP:20260420T194848
CREATED:20220121T170548Z
LAST-MODIFIED:20220121T170548Z
UID:16992-1645178400-1645192800@affiliate.wcu.edu
SUMMARY:Lab Equipment Checkout - Stillwell 259
DESCRIPTION:
URL:https://affiliate.wcu.edu/comm/event/lab-equipment-checkout-stillwell-259-38/
LOCATION:Stillwell 259
CATEGORIES:Lab Equipment Checkout Hours,Studio and Lab Hours
ATTACH;FMTTYPE=image/jpeg:https://affiliate.wcu.edu/comm/wp-content/uploads/sites/187/2018/08/logo-purpleonwhite.jpg
END:VEVENT
BEGIN:VEVENT
DTSTART;TZID=UTC:20220217T153000
DTEND;TZID=UTC:20220217T173000
DTSTAMP:20260420T194848
CREATED:20220121T170519Z
LAST-MODIFIED:20220121T170519Z
UID:16990-1645111800-1645119000@affiliate.wcu.edu
SUMMARY:Lab Equipment Checkout - Stillwell 259
DESCRIPTION:
URL:https://affiliate.wcu.edu/comm/event/lab-equipment-checkout-stillwell-259-37/
LOCATION:Stillwell 259
CATEGORIES:Lab Equipment Checkout Hours,Studio and Lab Hours
ATTACH;FMTTYPE=image/jpeg:https://affiliate.wcu.edu/comm/wp-content/uploads/sites/187/2018/08/logo-purpleonwhite.jpg
END:VEVENT
BEGIN:VEVENT
DTSTART;TZID=UTC:20220217T140000
DTEND;TZID=UTC:20220217T160000
DTSTAMP:20260420T194848
CREATED:20220121T171808Z
LAST-MODIFIED:20220121T171808Z
UID:17030-1645106400-1645113600@affiliate.wcu.edu
SUMMARY:TV Studio Open Hours – CAT 110
DESCRIPTION:
URL:https://affiliate.wcu.edu/comm/event/tv-studio-open-hours-cat-110-37/
LOCATION:CAT 110
CATEGORIES:Studio and Lab Hours,TV Studio Open Hours
ATTACH;FMTTYPE=image/jpeg:https://affiliate.wcu.edu/comm/wp-content/uploads/sites/187/2018/08/logo-purpleonwhite.jpg
END:VEVENT
BEGIN:VEVENT
DTSTART;TZID=UTC:20220216T120000
DTEND;TZID=UTC:20220216T140000
DTSTAMP:20260420T194848
CREATED:20220121T170445Z
LAST-MODIFIED:20220121T170445Z
UID:16988-1645012800-1645020000@affiliate.wcu.edu
SUMMARY:Lab Equipment Checkout - Stillwell 259
DESCRIPTION:
URL:https://affiliate.wcu.edu/comm/event/lab-equipment-checkout-stillwell-259-36/
LOCATION:Stillwell 259
CATEGORIES:Lab Equipment Checkout Hours,Studio and Lab Hours
ATTACH;FMTTYPE=image/jpeg:https://affiliate.wcu.edu/comm/wp-content/uploads/sites/187/2018/08/logo-purpleonwhite.jpg
END:VEVENT
BEGIN:VEVENT
DTSTART;TZID=UTC:20220216T090000
DTEND;TZID=UTC:20220216T110000
DTSTAMP:20260420T194848
CREATED:20220121T171739Z
LAST-MODIFIED:20220121T171739Z
UID:17028-1645002000-1645009200@affiliate.wcu.edu
SUMMARY:TV Studio Open Hours – CAT 110
DESCRIPTION:
URL:https://affiliate.wcu.edu/comm/event/tv-studio-open-hours-cat-110-36/
LOCATION:CAT 110
CATEGORIES:Studio and Lab Hours,TV Studio Open Hours
ATTACH;FMTTYPE=image/jpeg:https://affiliate.wcu.edu/comm/wp-content/uploads/sites/187/2018/08/logo-purpleonwhite.jpg
END:VEVENT
BEGIN:VEVENT
DTSTART;TZID=UTC:20220215T153000
DTEND;TZID=UTC:20220215T173000
DTSTAMP:20260420T194848
CREATED:20220121T170415Z
LAST-MODIFIED:20220121T170415Z
UID:16986-1644939000-1644946200@affiliate.wcu.edu
SUMMARY:Lab Equipment Checkout - Stillwell 259
DESCRIPTION:
URL:https://affiliate.wcu.edu/comm/event/lab-equipment-checkout-stillwell-259-35/
LOCATION:Stillwell 259
CATEGORIES:Lab Equipment Checkout Hours,Studio and Lab Hours
ATTACH;FMTTYPE=image/jpeg:https://affiliate.wcu.edu/comm/wp-content/uploads/sites/187/2018/08/logo-purpleonwhite.jpg
END:VEVENT
BEGIN:VEVENT
DTSTART;TZID=UTC:20220215T140000
DTEND;TZID=UTC:20220215T160000
DTSTAMP:20260420T194848
CREATED:20220121T171703Z
LAST-MODIFIED:20220121T171703Z
UID:17026-1644933600-1644940800@affiliate.wcu.edu
SUMMARY:TV Studio Open Hours – CAT 110
DESCRIPTION:
URL:https://affiliate.wcu.edu/comm/event/tv-studio-open-hours-cat-110-35/
LOCATION:CAT 110
CATEGORIES:Studio and Lab Hours,TV Studio Open Hours
ATTACH;FMTTYPE=image/jpeg:https://affiliate.wcu.edu/comm/wp-content/uploads/sites/187/2018/08/logo-purpleonwhite.jpg
END:VEVENT
BEGIN:VEVENT
DTSTART;TZID=UTC:20220214T100000
DTEND;TZID=UTC:20220214T140000
DTSTAMP:20260420T194848
CREATED:20220121T170327Z
LAST-MODIFIED:20220121T170327Z
UID:16984-1644832800-1644847200@affiliate.wcu.edu
SUMMARY:Lab Equipment Checkout - Stillwell 259
DESCRIPTION:
URL:https://affiliate.wcu.edu/comm/event/lab-equipment-checkout-stillwell-259-34/
LOCATION:Stillwell 259
CATEGORIES:Lab Equipment Checkout Hours,Studio and Lab Hours
ATTACH;FMTTYPE=image/jpeg:https://affiliate.wcu.edu/comm/wp-content/uploads/sites/187/2018/08/logo-purpleonwhite.jpg
END:VEVENT
BEGIN:VEVENT
DTSTART;TZID=UTC:20220214T090000
DTEND;TZID=UTC:20220214T110000
DTSTAMP:20260420T194848
CREATED:20220121T171632Z
LAST-MODIFIED:20220121T171632Z
UID:17024-1644829200-1644836400@affiliate.wcu.edu
SUMMARY:TV Studio Open Hours – CAT 110
DESCRIPTION:
URL:https://affiliate.wcu.edu/comm/event/tv-studio-open-hours-cat-110-34/
LOCATION:CAT 110
CATEGORIES:Studio and Lab Hours,TV Studio Open Hours
ATTACH;FMTTYPE=image/jpeg:https://affiliate.wcu.edu/comm/wp-content/uploads/sites/187/2018/08/logo-purpleonwhite.jpg
END:VEVENT
BEGIN:VEVENT
DTSTART;TZID=UTC:20220211T110000
DTEND;TZID=UTC:20220211T130000
DTSTAMP:20260420T194848
CREATED:20220121T171556Z
LAST-MODIFIED:20220121T171556Z
UID:17022-1644577200-1644584400@affiliate.wcu.edu
SUMMARY:TV Studio Open Hours – CAT 110
DESCRIPTION:
URL:https://affiliate.wcu.edu/comm/event/tv-studio-open-hours-cat-110-33/
LOCATION:CAT 110
CATEGORIES:Studio and Lab Hours,TV Studio Open Hours
ATTACH;FMTTYPE=image/jpeg:https://affiliate.wcu.edu/comm/wp-content/uploads/sites/187/2018/08/logo-purpleonwhite.jpg
END:VEVENT
BEGIN:VEVENT
DTSTART;TZID=UTC:20220211T100000
DTEND;TZID=UTC:20220211T140000
DTSTAMP:20260420T194848
CREATED:20220121T170235Z
LAST-MODIFIED:20220121T170235Z
UID:16982-1644573600-1644588000@affiliate.wcu.edu
SUMMARY:Lab Equipment Checkout - Stillwell 259
DESCRIPTION:
URL:https://affiliate.wcu.edu/comm/event/lab-equipment-checkout-stillwell-259-33/
LOCATION:Stillwell 259
CATEGORIES:Lab Equipment Checkout Hours,Studio and Lab Hours
ATTACH;FMTTYPE=image/jpeg:https://affiliate.wcu.edu/comm/wp-content/uploads/sites/187/2018/08/logo-purpleonwhite.jpg
END:VEVENT
BEGIN:VEVENT
DTSTART;TZID=UTC:20220210T153000
DTEND;TZID=UTC:20220210T173000
DTSTAMP:20260420T194848
CREATED:20220121T170206Z
LAST-MODIFIED:20220121T170206Z
UID:16980-1644507000-1644514200@affiliate.wcu.edu
SUMMARY:Lab Equipment Checkout - Stillwell 259
DESCRIPTION:
URL:https://affiliate.wcu.edu/comm/event/lab-equipment-checkout-stillwell-259-32/
LOCATION:Stillwell 259
CATEGORIES:Lab Equipment Checkout Hours,Studio and Lab Hours
ATTACH;FMTTYPE=image/jpeg:https://affiliate.wcu.edu/comm/wp-content/uploads/sites/187/2018/08/logo-purpleonwhite.jpg
END:VEVENT
BEGIN:VEVENT
DTSTART;TZID=UTC:20220210T140000
DTEND;TZID=UTC:20220210T160000
DTSTAMP:20260420T194848
CREATED:20220121T171529Z
LAST-MODIFIED:20220121T171529Z
UID:17020-1644501600-1644508800@affiliate.wcu.edu
SUMMARY:TV Studio Open Hours – CAT 110
DESCRIPTION:
URL:https://affiliate.wcu.edu/comm/event/tv-studio-open-hours-cat-110-32/
LOCATION:CAT 110
CATEGORIES:Studio and Lab Hours,TV Studio Open Hours
ATTACH;FMTTYPE=image/jpeg:https://affiliate.wcu.edu/comm/wp-content/uploads/sites/187/2018/08/logo-purpleonwhite.jpg
END:VEVENT
BEGIN:VEVENT
DTSTART;TZID=UTC:20220209T120000
DTEND;TZID=UTC:20220209T140000
DTSTAMP:20260420T194848
CREATED:20220121T170131Z
LAST-MODIFIED:20220121T170131Z
UID:16978-1644408000-1644415200@affiliate.wcu.edu
SUMMARY:Lab Equipment Checkout - Stillwell 259
DESCRIPTION:
URL:https://affiliate.wcu.edu/comm/event/lab-equipment-checkout-stillwell-259-31/
LOCATION:Stillwell 259
CATEGORIES:Lab Equipment Checkout Hours,Studio and Lab Hours
ATTACH;FMTTYPE=image/jpeg:https://affiliate.wcu.edu/comm/wp-content/uploads/sites/187/2018/08/logo-purpleonwhite.jpg
END:VEVENT
BEGIN:VEVENT
DTSTART;TZID=UTC:20220209T090000
DTEND;TZID=UTC:20220209T110000
DTSTAMP:20260420T194848
CREATED:20220121T171457Z
LAST-MODIFIED:20220121T171457Z
UID:17018-1644397200-1644404400@affiliate.wcu.edu
SUMMARY:TV Studio Open Hours – CAT 110
DESCRIPTION:
URL:https://affiliate.wcu.edu/comm/event/tv-studio-open-hours-cat-110-31/
LOCATION:CAT 110
CATEGORIES:Studio and Lab Hours,TV Studio Open Hours
ATTACH;FMTTYPE=image/jpeg:https://affiliate.wcu.edu/comm/wp-content/uploads/sites/187/2018/08/logo-purpleonwhite.jpg
END:VEVENT
BEGIN:VEVENT
DTSTART;TZID=UTC:20220208T153000
DTEND;TZID=UTC:20220208T173000
DTSTAMP:20260420T194848
CREATED:20220121T170100Z
LAST-MODIFIED:20220121T170100Z
UID:16976-1644334200-1644341400@affiliate.wcu.edu
SUMMARY:Lab Equipment Checkout - Stillwell 259
DESCRIPTION:
URL:https://affiliate.wcu.edu/comm/event/lab-equipment-checkout-stillwell-259-30/
LOCATION:Stillwell 259
CATEGORIES:Lab Equipment Checkout Hours,Studio and Lab Hours
ATTACH;FMTTYPE=image/jpeg:https://affiliate.wcu.edu/comm/wp-content/uploads/sites/187/2018/08/logo-purpleonwhite.jpg
END:VEVENT
BEGIN:VEVENT
DTSTART;TZID=UTC:20220208T140000
DTEND;TZID=UTC:20220208T160000
DTSTAMP:20260420T194848
CREATED:20220121T171425Z
LAST-MODIFIED:20220121T171425Z
UID:17016-1644328800-1644336000@affiliate.wcu.edu
SUMMARY:TV Studio Open Hours – CAT 110
DESCRIPTION:
URL:https://affiliate.wcu.edu/comm/event/tv-studio-open-hours-cat-110-30/
LOCATION:CAT 110
CATEGORIES:Studio and Lab Hours,TV Studio Open Hours
ATTACH;FMTTYPE=image/jpeg:https://affiliate.wcu.edu/comm/wp-content/uploads/sites/187/2018/08/logo-purpleonwhite.jpg
END:VEVENT
BEGIN:VEVENT
DTSTART;TZID=UTC:20220207T100000
DTEND;TZID=UTC:20220207T140000
DTSTAMP:20260420T194848
CREATED:20220121T170024Z
LAST-MODIFIED:20220121T170024Z
UID:16974-1644228000-1644242400@affiliate.wcu.edu
SUMMARY:Lab Equipment Checkout - Stillwell 259
DESCRIPTION:
URL:https://affiliate.wcu.edu/comm/event/lab-equipment-checkout-stillwell-259-29/
LOCATION:Stillwell 259
CATEGORIES:Lab Equipment Checkout Hours,Studio and Lab Hours
ATTACH;FMTTYPE=image/jpeg:https://affiliate.wcu.edu/comm/wp-content/uploads/sites/187/2018/08/logo-purpleonwhite.jpg
END:VEVENT
BEGIN:VEVENT
DTSTART;TZID=UTC:20220207T090000
DTEND;TZID=UTC:20220207T110000
DTSTAMP:20260420T194848
CREATED:20220121T171355Z
LAST-MODIFIED:20220121T171355Z
UID:17014-1644224400-1644231600@affiliate.wcu.edu
SUMMARY:TV Studio Open Hours – CAT 110
DESCRIPTION:
URL:https://affiliate.wcu.edu/comm/event/tv-studio-open-hours-cat-110-29/
LOCATION:CAT 110
CATEGORIES:Studio and Lab Hours,TV Studio Open Hours
ATTACH;FMTTYPE=image/jpeg:https://affiliate.wcu.edu/comm/wp-content/uploads/sites/187/2018/08/logo-purpleonwhite.jpg
END:VEVENT
BEGIN:VEVENT
DTSTART;TZID=UTC:20220204T110000
DTEND;TZID=UTC:20220204T130000
DTSTAMP:20260420T194848
CREATED:20220121T171308Z
LAST-MODIFIED:20220121T171308Z
UID:17012-1643972400-1643979600@affiliate.wcu.edu
SUMMARY:TV Studio Open Hours – CAT 110
DESCRIPTION:
URL:https://affiliate.wcu.edu/comm/event/tv-studio-open-hours-cat-110-28/
LOCATION:CAT 110
CATEGORIES:Studio and Lab Hours,TV Studio Open Hours
ATTACH;FMTTYPE=image/jpeg:https://affiliate.wcu.edu/comm/wp-content/uploads/sites/187/2018/08/logo-purpleonwhite.jpg
END:VEVENT
BEGIN:VEVENT
DTSTART;TZID=UTC:20220204T100000
DTEND;TZID=UTC:20220204T140000
DTSTAMP:20260420T194848
CREATED:20220121T165907Z
LAST-MODIFIED:20220121T165907Z
UID:16972-1643968800-1643983200@affiliate.wcu.edu
SUMMARY:Lab Equipment Checkout - Stillwell 259
DESCRIPTION:
URL:https://affiliate.wcu.edu/comm/event/lab-equipment-checkout-stillwell-259-28/
LOCATION:Stillwell 259
CATEGORIES:Lab Equipment Checkout Hours,Studio and Lab Hours
ATTACH;FMTTYPE=image/jpeg:https://affiliate.wcu.edu/comm/wp-content/uploads/sites/187/2018/08/logo-purpleonwhite.jpg
END:VEVENT
BEGIN:VEVENT
DTSTART;TZID=UTC:20220203T153000
DTEND;TZID=UTC:20220203T173000
DTSTAMP:20260420T194848
CREATED:20220121T165827Z
LAST-MODIFIED:20220121T165827Z
UID:16970-1643902200-1643909400@affiliate.wcu.edu
SUMMARY:Lab Equipment Checkout - Stillwell 259
DESCRIPTION:
URL:https://affiliate.wcu.edu/comm/event/lab-equipment-checkout-stillwell-259-27/
LOCATION:Stillwell 259
CATEGORIES:Lab Equipment Checkout Hours,Studio and Lab Hours
ATTACH;FMTTYPE=image/jpeg:https://affiliate.wcu.edu/comm/wp-content/uploads/sites/187/2018/08/logo-purpleonwhite.jpg
END:VEVENT
BEGIN:VEVENT
DTSTART;TZID=UTC:20220203T140000
DTEND;TZID=UTC:20220203T160000
DTSTAMP:20260420T194848
CREATED:20220121T171240Z
LAST-MODIFIED:20220121T171240Z
UID:17010-1643896800-1643904000@affiliate.wcu.edu
SUMMARY:TV Studio Open Hours – CAT 110
DESCRIPTION:
URL:https://affiliate.wcu.edu/comm/event/tv-studio-open-hours-cat-110-27/
LOCATION:CAT 110
CATEGORIES:Studio and Lab Hours,TV Studio Open Hours
ATTACH;FMTTYPE=image/jpeg:https://affiliate.wcu.edu/comm/wp-content/uploads/sites/187/2018/08/logo-purpleonwhite.jpg
END:VEVENT
END:VCALENDAR