BEGIN:VCALENDAR
VERSION:2.0
PRODID:-//WCU Comm Department - ECPv6.15.20//NONSGML v1.0//EN
CALSCALE:GREGORIAN
METHOD:PUBLISH
X-WR-CALNAME:WCU Comm Department
X-ORIGINAL-URL:https://affiliate.wcu.edu/comm
X-WR-CALDESC:Events for WCU Comm Department
REFRESH-INTERVAL;VALUE=DURATION:PT1H
X-Robots-Tag:noindex
X-PUBLISHED-TTL:PT1H
BEGIN:VTIMEZONE
TZID:UTC
BEGIN:STANDARD
TZOFFSETFROM:+0000
TZOFFSETTO:+0000
TZNAME:UTC
DTSTART:20200101T000000
END:STANDARD
END:VTIMEZONE
BEGIN:VEVENT
DTSTART;TZID=UTC:20220207T100000
DTEND;TZID=UTC:20220207T140000
DTSTAMP:20260420T223231
CREATED:20220121T170024Z
LAST-MODIFIED:20220121T170024Z
UID:16974-1644228000-1644242400@affiliate.wcu.edu
SUMMARY:Lab Equipment Checkout - Stillwell 259
DESCRIPTION:
URL:https://affiliate.wcu.edu/comm/event/lab-equipment-checkout-stillwell-259-29/
LOCATION:Stillwell 259
CATEGORIES:Lab Equipment Checkout Hours,Studio and Lab Hours
ATTACH;FMTTYPE=image/jpeg:https://affiliate.wcu.edu/comm/wp-content/uploads/sites/187/2018/08/logo-purpleonwhite.jpg
END:VEVENT
BEGIN:VEVENT
DTSTART;TZID=UTC:20220207T090000
DTEND;TZID=UTC:20220207T110000
DTSTAMP:20260420T223231
CREATED:20220121T171355Z
LAST-MODIFIED:20220121T171355Z
UID:17014-1644224400-1644231600@affiliate.wcu.edu
SUMMARY:TV Studio Open Hours – CAT 110
DESCRIPTION:
URL:https://affiliate.wcu.edu/comm/event/tv-studio-open-hours-cat-110-29/
LOCATION:CAT 110
CATEGORIES:Studio and Lab Hours,TV Studio Open Hours
ATTACH;FMTTYPE=image/jpeg:https://affiliate.wcu.edu/comm/wp-content/uploads/sites/187/2018/08/logo-purpleonwhite.jpg
END:VEVENT
BEGIN:VEVENT
DTSTART;TZID=UTC:20220204T110000
DTEND;TZID=UTC:20220204T130000
DTSTAMP:20260420T223231
CREATED:20220121T171308Z
LAST-MODIFIED:20220121T171308Z
UID:17012-1643972400-1643979600@affiliate.wcu.edu
SUMMARY:TV Studio Open Hours – CAT 110
DESCRIPTION:
URL:https://affiliate.wcu.edu/comm/event/tv-studio-open-hours-cat-110-28/
LOCATION:CAT 110
CATEGORIES:Studio and Lab Hours,TV Studio Open Hours
ATTACH;FMTTYPE=image/jpeg:https://affiliate.wcu.edu/comm/wp-content/uploads/sites/187/2018/08/logo-purpleonwhite.jpg
END:VEVENT
BEGIN:VEVENT
DTSTART;TZID=UTC:20220204T100000
DTEND;TZID=UTC:20220204T140000
DTSTAMP:20260420T223231
CREATED:20220121T165907Z
LAST-MODIFIED:20220121T165907Z
UID:16972-1643968800-1643983200@affiliate.wcu.edu
SUMMARY:Lab Equipment Checkout - Stillwell 259
DESCRIPTION:
URL:https://affiliate.wcu.edu/comm/event/lab-equipment-checkout-stillwell-259-28/
LOCATION:Stillwell 259
CATEGORIES:Lab Equipment Checkout Hours,Studio and Lab Hours
ATTACH;FMTTYPE=image/jpeg:https://affiliate.wcu.edu/comm/wp-content/uploads/sites/187/2018/08/logo-purpleonwhite.jpg
END:VEVENT
BEGIN:VEVENT
DTSTART;TZID=UTC:20220203T153000
DTEND;TZID=UTC:20220203T173000
DTSTAMP:20260420T223231
CREATED:20220121T165827Z
LAST-MODIFIED:20220121T165827Z
UID:16970-1643902200-1643909400@affiliate.wcu.edu
SUMMARY:Lab Equipment Checkout - Stillwell 259
DESCRIPTION:
URL:https://affiliate.wcu.edu/comm/event/lab-equipment-checkout-stillwell-259-27/
LOCATION:Stillwell 259
CATEGORIES:Lab Equipment Checkout Hours,Studio and Lab Hours
ATTACH;FMTTYPE=image/jpeg:https://affiliate.wcu.edu/comm/wp-content/uploads/sites/187/2018/08/logo-purpleonwhite.jpg
END:VEVENT
BEGIN:VEVENT
DTSTART;TZID=UTC:20220203T140000
DTEND;TZID=UTC:20220203T160000
DTSTAMP:20260420T223231
CREATED:20220121T171240Z
LAST-MODIFIED:20220121T171240Z
UID:17010-1643896800-1643904000@affiliate.wcu.edu
SUMMARY:TV Studio Open Hours – CAT 110
DESCRIPTION:
URL:https://affiliate.wcu.edu/comm/event/tv-studio-open-hours-cat-110-27/
LOCATION:CAT 110
CATEGORIES:Studio and Lab Hours,TV Studio Open Hours
ATTACH;FMTTYPE=image/jpeg:https://affiliate.wcu.edu/comm/wp-content/uploads/sites/187/2018/08/logo-purpleonwhite.jpg
END:VEVENT
BEGIN:VEVENT
DTSTART;TZID=UTC:20220202T120000
DTEND;TZID=UTC:20220202T140000
DTSTAMP:20260420T223231
CREATED:20220121T165709Z
LAST-MODIFIED:20220121T165709Z
UID:16968-1643803200-1643810400@affiliate.wcu.edu
SUMMARY:Lab Equipment Checkout - Stillwell 259
DESCRIPTION:
URL:https://affiliate.wcu.edu/comm/event/lab-equipment-checkout-stillwell-259-26/
LOCATION:Stillwell 259
CATEGORIES:Lab Equipment Checkout Hours,Studio and Lab Hours
ATTACH;FMTTYPE=image/jpeg:https://affiliate.wcu.edu/comm/wp-content/uploads/sites/187/2018/08/logo-purpleonwhite.jpg
END:VEVENT
BEGIN:VEVENT
DTSTART;TZID=UTC:20220202T090000
DTEND;TZID=UTC:20220202T110000
DTSTAMP:20260420T223231
CREATED:20220121T171212Z
LAST-MODIFIED:20220121T171212Z
UID:17008-1643792400-1643799600@affiliate.wcu.edu
SUMMARY:TV Studio Open Hours – CAT 110
DESCRIPTION:
URL:https://affiliate.wcu.edu/comm/event/tv-studio-open-hours-cat-110-26/
LOCATION:CAT 110
CATEGORIES:Studio and Lab Hours,TV Studio Open Hours
ATTACH;FMTTYPE=image/jpeg:https://affiliate.wcu.edu/comm/wp-content/uploads/sites/187/2018/08/logo-purpleonwhite.jpg
END:VEVENT
BEGIN:VEVENT
DTSTART;TZID=UTC:20220201T153000
DTEND;TZID=UTC:20220201T173000
DTSTAMP:20260420T223231
CREATED:20220121T165633Z
LAST-MODIFIED:20220121T165633Z
UID:16966-1643729400-1643736600@affiliate.wcu.edu
SUMMARY:Lab Equipment Checkout - Stillwell 259
DESCRIPTION:
URL:https://affiliate.wcu.edu/comm/event/lab-equipment-checkout-stillwell-259-25/
LOCATION:Stillwell 259
CATEGORIES:Lab Equipment Checkout Hours,Studio and Lab Hours
ATTACH;FMTTYPE=image/jpeg:https://affiliate.wcu.edu/comm/wp-content/uploads/sites/187/2018/08/logo-purpleonwhite.jpg
END:VEVENT
BEGIN:VEVENT
DTSTART;TZID=UTC:20220201T140000
DTEND;TZID=UTC:20220201T160000
DTSTAMP:20260420T223231
CREATED:20220121T171140Z
LAST-MODIFIED:20220121T171140Z
UID:17006-1643724000-1643731200@affiliate.wcu.edu
SUMMARY:TV Studio Open Hours – CAT 110
DESCRIPTION:
URL:https://affiliate.wcu.edu/comm/event/tv-studio-open-hours-cat-110-25/
LOCATION:CAT 110
CATEGORIES:Studio and Lab Hours,TV Studio Open Hours
ATTACH;FMTTYPE=image/jpeg:https://affiliate.wcu.edu/comm/wp-content/uploads/sites/187/2018/08/logo-purpleonwhite.jpg
END:VEVENT
BEGIN:VEVENT
DTSTART;TZID=UTC:20220131T100000
DTEND;TZID=UTC:20220131T140000
DTSTAMP:20260420T223231
CREATED:20220119T224607Z
LAST-MODIFIED:20220119T224607Z
UID:16929-1643623200-1643637600@affiliate.wcu.edu
SUMMARY:Lab Equipment Checkout - Stillwell 259
DESCRIPTION:
URL:https://affiliate.wcu.edu/comm/event/lab-equipment-checkout-stillwell-259-24/
LOCATION:Stillwell 259
CATEGORIES:Lab Equipment Checkout Hours,Studio and Lab Hours
ATTACH;FMTTYPE=image/jpeg:https://affiliate.wcu.edu/comm/wp-content/uploads/sites/187/2018/08/logo-purpleonwhite.jpg
END:VEVENT
BEGIN:VEVENT
DTSTART;TZID=UTC:20220131T090000
DTEND;TZID=UTC:20220131T110000
DTSTAMP:20260420T223231
CREATED:20220119T230017Z
LAST-MODIFIED:20220119T230017Z
UID:16946-1643619600-1643626800@affiliate.wcu.edu
SUMMARY:TV Studio Open Hours – CAT 110
DESCRIPTION:
URL:https://affiliate.wcu.edu/comm/event/tv-studio-open-hours-cat-110-24/
LOCATION:CAT 110
CATEGORIES:Studio and Lab Hours,TV Studio Open Hours
ATTACH;FMTTYPE=image/jpeg:https://affiliate.wcu.edu/comm/wp-content/uploads/sites/187/2018/08/logo-purpleonwhite.jpg
END:VEVENT
BEGIN:VEVENT
DTSTART;TZID=UTC:20220128T110000
DTEND;TZID=UTC:20220128T130000
DTSTAMP:20260420T223231
CREATED:20220119T225940Z
LAST-MODIFIED:20220119T225940Z
UID:16944-1643367600-1643374800@affiliate.wcu.edu
SUMMARY:TV Studio Open Hours – CAT 110
DESCRIPTION:
URL:https://affiliate.wcu.edu/comm/event/tv-studio-open-hours-cat-110-23/
LOCATION:CAT 110
CATEGORIES:Studio and Lab Hours,TV Studio Open Hours
ATTACH;FMTTYPE=image/jpeg:https://affiliate.wcu.edu/comm/wp-content/uploads/sites/187/2018/08/logo-purpleonwhite.jpg
END:VEVENT
BEGIN:VEVENT
DTSTART;TZID=UTC:20220128T100000
DTEND;TZID=UTC:20220128T140000
DTSTAMP:20260420T223231
CREATED:20220119T224534Z
LAST-MODIFIED:20220119T224534Z
UID:16927-1643364000-1643378400@affiliate.wcu.edu
SUMMARY:Lab Equipment Checkout - Stillwell 259
DESCRIPTION:
URL:https://affiliate.wcu.edu/comm/event/lab-equipment-checkout-stillwell-259-23/
LOCATION:Stillwell 259
CATEGORIES:Lab Equipment Checkout Hours,Studio and Lab Hours
ATTACH;FMTTYPE=image/jpeg:https://affiliate.wcu.edu/comm/wp-content/uploads/sites/187/2018/08/logo-purpleonwhite.jpg
END:VEVENT
BEGIN:VEVENT
DTSTART;TZID=UTC:20220127T153000
DTEND;TZID=UTC:20220127T173000
DTSTAMP:20260420T223231
CREATED:20220119T224501Z
LAST-MODIFIED:20220119T224501Z
UID:16925-1643297400-1643304600@affiliate.wcu.edu
SUMMARY:Lab Equipment Checkout - Stillwell 259
DESCRIPTION:
URL:https://affiliate.wcu.edu/comm/event/lab-equipment-checkout-stillwell-259-22/
LOCATION:Stillwell 259
CATEGORIES:Lab Equipment Checkout Hours,Studio and Lab Hours
ATTACH;FMTTYPE=image/jpeg:https://affiliate.wcu.edu/comm/wp-content/uploads/sites/187/2018/08/logo-purpleonwhite.jpg
END:VEVENT
BEGIN:VEVENT
DTSTART;TZID=UTC:20220127T140000
DTEND;TZID=UTC:20220127T160000
DTSTAMP:20260420T223231
CREATED:20220119T225903Z
LAST-MODIFIED:20220119T225903Z
UID:16942-1643292000-1643299200@affiliate.wcu.edu
SUMMARY:TV Studio Open Hours – CAT 110
DESCRIPTION:
URL:https://affiliate.wcu.edu/comm/event/tv-studio-open-hours-cat-110-22/
LOCATION:CAT 110
CATEGORIES:Studio and Lab Hours,TV Studio Open Hours
ATTACH;FMTTYPE=image/jpeg:https://affiliate.wcu.edu/comm/wp-content/uploads/sites/187/2018/08/logo-purpleonwhite.jpg
END:VEVENT
BEGIN:VEVENT
DTSTART;TZID=UTC:20220126T120000
DTEND;TZID=UTC:20220126T140000
DTSTAMP:20260420T223231
CREATED:20220119T224411Z
LAST-MODIFIED:20220119T224411Z
UID:16923-1643198400-1643205600@affiliate.wcu.edu
SUMMARY:Lab Equipment Checkout - Stillwell 259
DESCRIPTION:
URL:https://affiliate.wcu.edu/comm/event/lab-equipment-checkout-stillwell-259-21/
LOCATION:Stillwell 259
CATEGORIES:Lab Equipment Checkout Hours,Studio and Lab Hours
ATTACH;FMTTYPE=image/jpeg:https://affiliate.wcu.edu/comm/wp-content/uploads/sites/187/2018/08/logo-purpleonwhite.jpg
END:VEVENT
BEGIN:VEVENT
DTSTART;TZID=UTC:20220126T090000
DTEND;TZID=UTC:20220126T110000
DTSTAMP:20260420T223231
CREATED:20220119T225832Z
LAST-MODIFIED:20220119T225832Z
UID:16940-1643187600-1643194800@affiliate.wcu.edu
SUMMARY:TV Studio Open Hours – CAT 110
DESCRIPTION:
URL:https://affiliate.wcu.edu/comm/event/tv-studio-open-hours-cat-110-21/
LOCATION:CAT 110
CATEGORIES:Studio and Lab Hours,TV Studio Open Hours
ATTACH;FMTTYPE=image/jpeg:https://affiliate.wcu.edu/comm/wp-content/uploads/sites/187/2018/08/logo-purpleonwhite.jpg
END:VEVENT
BEGIN:VEVENT
DTSTART;TZID=UTC:20220125T153000
DTEND;TZID=UTC:20220125T173000
DTSTAMP:20260420T223231
CREATED:20220119T224327Z
LAST-MODIFIED:20220119T224327Z
UID:16921-1643124600-1643131800@affiliate.wcu.edu
SUMMARY:Lab Equipment Checkout - Stillwell 259
DESCRIPTION:
URL:https://affiliate.wcu.edu/comm/event/lab-equipment-checkout-stillwell-259-20/
LOCATION:Stillwell 259
CATEGORIES:Lab Equipment Checkout Hours,Studio and Lab Hours
ATTACH;FMTTYPE=image/jpeg:https://affiliate.wcu.edu/comm/wp-content/uploads/sites/187/2018/08/logo-purpleonwhite.jpg
END:VEVENT
BEGIN:VEVENT
DTSTART;TZID=UTC:20220125T140000
DTEND;TZID=UTC:20220125T160000
DTSTAMP:20260420T223231
CREATED:20220119T225604Z
LAST-MODIFIED:20220119T225604Z
UID:16937-1643119200-1643126400@affiliate.wcu.edu
SUMMARY:TV Studio Open Hours – CAT 110
DESCRIPTION:
URL:https://affiliate.wcu.edu/comm/event/tv-studio-open-hours-cat-110-20/
LOCATION:CAT 110
CATEGORIES:Studio and Lab Hours,TV Studio Open Hours
ATTACH;FMTTYPE=image/jpeg:https://affiliate.wcu.edu/comm/wp-content/uploads/sites/187/2018/08/logo-purpleonwhite.jpg
END:VEVENT
BEGIN:VEVENT
DTSTART;TZID=UTC:20220124T100000
DTEND;TZID=UTC:20220124T140000
DTSTAMP:20260420T223231
CREATED:20220119T224238Z
LAST-MODIFIED:20220119T224238Z
UID:16919-1643018400-1643032800@affiliate.wcu.edu
SUMMARY:Lab Equipment Checkout - Stillwell 259
DESCRIPTION:
URL:https://affiliate.wcu.edu/comm/event/lab-equipment-checkout-stillwell-259-19/
LOCATION:Stillwell 259
CATEGORIES:Lab Equipment Checkout Hours,Studio and Lab Hours
ATTACH;FMTTYPE=image/jpeg:https://affiliate.wcu.edu/comm/wp-content/uploads/sites/187/2018/08/logo-purpleonwhite.jpg
END:VEVENT
BEGIN:VEVENT
DTSTART;TZID=UTC:20220124T090000
DTEND;TZID=UTC:20220124T110000
DTSTAMP:20260420T223231
CREATED:20220119T225538Z
LAST-MODIFIED:20220119T225538Z
UID:16935-1643014800-1643022000@affiliate.wcu.edu
SUMMARY:TV Studio Open Hours – CAT 110
DESCRIPTION:
URL:https://affiliate.wcu.edu/comm/event/tv-studio-open-hours-cat-110-19/
LOCATION:CAT 110
CATEGORIES:Studio and Lab Hours,TV Studio Open Hours
ATTACH;FMTTYPE=image/jpeg:https://affiliate.wcu.edu/comm/wp-content/uploads/sites/187/2018/08/logo-purpleonwhite.jpg
END:VEVENT
BEGIN:VEVENT
DTSTART;TZID=UTC:20220121T110000
DTEND;TZID=UTC:20220121T130000
DTSTAMP:20260420T223231
CREATED:20220119T225427Z
LAST-MODIFIED:20220119T225427Z
UID:16933-1642762800-1642770000@affiliate.wcu.edu
SUMMARY:TV Studio Open Hours – CAT 110
DESCRIPTION:
URL:https://affiliate.wcu.edu/comm/event/tv-studio-open-hours-cat-110-18/
LOCATION:CAT 110
CATEGORIES:Studio and Lab Hours,TV Studio Open Hours
ATTACH;FMTTYPE=image/jpeg:https://affiliate.wcu.edu/comm/wp-content/uploads/sites/187/2018/08/logo-purpleonwhite.jpg
END:VEVENT
BEGIN:VEVENT
DTSTART;TZID=UTC:20220121T100000
DTEND;TZID=UTC:20220121T140000
DTSTAMP:20260420T223231
CREATED:20220119T224138Z
LAST-MODIFIED:20220119T224138Z
UID:16917-1642759200-1642773600@affiliate.wcu.edu
SUMMARY:Lab Equipment Checkout - Stillwell 259
DESCRIPTION:
URL:https://affiliate.wcu.edu/comm/event/lab-equipment-checkout-stillwell-259-18/
LOCATION:Stillwell 259
CATEGORIES:Lab Equipment Checkout Hours,Studio and Lab Hours
ATTACH;FMTTYPE=image/jpeg:https://affiliate.wcu.edu/comm/wp-content/uploads/sites/187/2018/08/logo-purpleonwhite.jpg
END:VEVENT
BEGIN:VEVENT
DTSTART;TZID=UTC:20220120T153000
DTEND;TZID=UTC:20220120T173000
DTSTAMP:20260420T223231
CREATED:20220119T223928Z
LAST-MODIFIED:20220119T223928Z
UID:16913-1642692600-1642699800@affiliate.wcu.edu
SUMMARY:Lab Equipment Checkout - Stillwell 259
DESCRIPTION:
URL:https://affiliate.wcu.edu/comm/event/lab-equipment-checkout-stillwell-259-17/
LOCATION:Stillwell 259
CATEGORIES:Lab Equipment Checkout Hours,Studio and Lab Hours
ATTACH;FMTTYPE=image/jpeg:https://affiliate.wcu.edu/comm/wp-content/uploads/sites/187/2018/08/logo-purpleonwhite.jpg
END:VEVENT
BEGIN:VEVENT
DTSTART;TZID=UTC:20220120T140000
DTEND;TZID=UTC:20220120T160000
DTSTAMP:20260420T223231
CREATED:20220119T225347Z
LAST-MODIFIED:20220119T225347Z
UID:16931-1642687200-1642694400@affiliate.wcu.edu
SUMMARY:TV Studio Open Hours – CAT 110
DESCRIPTION:
URL:https://affiliate.wcu.edu/comm/event/tv-studio-open-hours-cat-110-17/
LOCATION:CAT 110
CATEGORIES:Studio and Lab Hours,TV Studio Open Hours
ATTACH;FMTTYPE=image/jpeg:https://affiliate.wcu.edu/comm/wp-content/uploads/sites/187/2018/08/logo-purpleonwhite.jpg
END:VEVENT
BEGIN:VEVENT
DTSTART;VALUE=DATE:20220101
DTEND;VALUE=DATE:20220102
DTSTAMP:20260420T223231
CREATED:20211122T170829Z
LAST-MODIFIED:20211122T170829Z
UID:16829-1640995200-1641081599@affiliate.wcu.edu
SUMMARY:New Years Day
DESCRIPTION:
URL:https://affiliate.wcu.edu/comm/event/new-years-day/
CATEGORIES:Holiday
ATTACH;FMTTYPE=image/jpeg:https://affiliate.wcu.edu/comm/wp-content/uploads/sites/187/2018/08/logo-purpleonwhite.jpg
END:VEVENT
BEGIN:VEVENT
DTSTART;VALUE=DATE:20211231
DTEND;VALUE=DATE:20220101
DTSTAMP:20260420T223231
CREATED:20211122T170756Z
LAST-MODIFIED:20211122T170756Z
UID:16827-1640908800-1640995199@affiliate.wcu.edu
SUMMARY:New Years Eve
DESCRIPTION:
URL:https://affiliate.wcu.edu/comm/event/new-years-eve/
CATEGORIES:Holiday
ATTACH;FMTTYPE=image/jpeg:https://affiliate.wcu.edu/comm/wp-content/uploads/sites/187/2018/08/logo-purpleonwhite.jpg
END:VEVENT
BEGIN:VEVENT
DTSTART;VALUE=DATE:20211225
DTEND;VALUE=DATE:20211226
DTSTAMP:20260420T223231
CREATED:20211122T170741Z
LAST-MODIFIED:20211122T170741Z
UID:16825-1640390400-1640476799@affiliate.wcu.edu
SUMMARY:Christmas Day
DESCRIPTION:
URL:https://affiliate.wcu.edu/comm/event/christmas-day/
CATEGORIES:Holiday
ATTACH;FMTTYPE=image/jpeg:https://affiliate.wcu.edu/comm/wp-content/uploads/sites/187/2018/08/logo-purpleonwhite.jpg
END:VEVENT
BEGIN:VEVENT
DTSTART;VALUE=DATE:20211224
DTEND;VALUE=DATE:20211225
DTSTAMP:20260420T223231
CREATED:20211122T170727Z
LAST-MODIFIED:20211122T170727Z
UID:16822-1640304000-1640390399@affiliate.wcu.edu
SUMMARY:Christmas Eve
DESCRIPTION:
URL:https://affiliate.wcu.edu/comm/event/christmas-eve/
CATEGORIES:Holiday
ATTACH;FMTTYPE=image/jpeg:https://affiliate.wcu.edu/comm/wp-content/uploads/sites/187/2018/08/logo-purpleonwhite.jpg
END:VEVENT
END:VCALENDAR