BEGIN:VCALENDAR
VERSION:2.0
PRODID:-//WCU Comm Department - ECPv6.15.20//NONSGML v1.0//EN
CALSCALE:GREGORIAN
METHOD:PUBLISH
X-ORIGINAL-URL:https://affiliate.wcu.edu/comm
X-WR-CALDESC:Events for WCU Comm Department
REFRESH-INTERVAL;VALUE=DURATION:PT1H
X-Robots-Tag:noindex
X-PUBLISHED-TTL:PT1H
BEGIN:VTIMEZONE
TZID:UTC
BEGIN:STANDARD
TZOFFSETFROM:+0000
TZOFFSETTO:+0000
TZNAME:UTC
DTSTART:20200101T000000
END:STANDARD
END:VTIMEZONE
BEGIN:VEVENT
DTSTART;TZID=UTC:20220120T153000
DTEND;TZID=UTC:20220120T173000
DTSTAMP:20260421T014003
CREATED:20220119T223928Z
LAST-MODIFIED:20220119T223928Z
UID:16913-1642692600-1642699800@affiliate.wcu.edu
SUMMARY:Lab Equipment Checkout - Stillwell 259
DESCRIPTION:
URL:https://affiliate.wcu.edu/comm/event/lab-equipment-checkout-stillwell-259-17/
LOCATION:Stillwell 259
CATEGORIES:Lab Equipment Checkout Hours,Studio and Lab Hours
ATTACH;FMTTYPE=image/jpeg:https://affiliate.wcu.edu/comm/wp-content/uploads/sites/187/2018/08/logo-purpleonwhite.jpg
END:VEVENT
BEGIN:VEVENT
DTSTART;TZID=UTC:20220120T140000
DTEND;TZID=UTC:20220120T160000
DTSTAMP:20260421T014003
CREATED:20220119T225347Z
LAST-MODIFIED:20220119T225347Z
UID:16931-1642687200-1642694400@affiliate.wcu.edu
SUMMARY:TV Studio Open Hours – CAT 110
DESCRIPTION:
URL:https://affiliate.wcu.edu/comm/event/tv-studio-open-hours-cat-110-17/
LOCATION:CAT 110
CATEGORIES:Studio and Lab Hours,TV Studio Open Hours
ATTACH;FMTTYPE=image/jpeg:https://affiliate.wcu.edu/comm/wp-content/uploads/sites/187/2018/08/logo-purpleonwhite.jpg
END:VEVENT
BEGIN:VEVENT
DTSTART;VALUE=DATE:20220101
DTEND;VALUE=DATE:20220102
DTSTAMP:20260421T014003
CREATED:20211122T170829Z
LAST-MODIFIED:20211122T170829Z
UID:16829-1640995200-1641081599@affiliate.wcu.edu
SUMMARY:New Years Day
DESCRIPTION:
URL:https://affiliate.wcu.edu/comm/event/new-years-day/
CATEGORIES:Holiday
ATTACH;FMTTYPE=image/jpeg:https://affiliate.wcu.edu/comm/wp-content/uploads/sites/187/2018/08/logo-purpleonwhite.jpg
END:VEVENT
BEGIN:VEVENT
DTSTART;VALUE=DATE:20211231
DTEND;VALUE=DATE:20220101
DTSTAMP:20260421T014003
CREATED:20211122T170756Z
LAST-MODIFIED:20211122T170756Z
UID:16827-1640908800-1640995199@affiliate.wcu.edu
SUMMARY:New Years Eve
DESCRIPTION:
URL:https://affiliate.wcu.edu/comm/event/new-years-eve/
CATEGORIES:Holiday
ATTACH;FMTTYPE=image/jpeg:https://affiliate.wcu.edu/comm/wp-content/uploads/sites/187/2018/08/logo-purpleonwhite.jpg
END:VEVENT
BEGIN:VEVENT
DTSTART;VALUE=DATE:20211225
DTEND;VALUE=DATE:20211226
DTSTAMP:20260421T014003
CREATED:20211122T170741Z
LAST-MODIFIED:20211122T170741Z
UID:16825-1640390400-1640476799@affiliate.wcu.edu
SUMMARY:Christmas Day
DESCRIPTION:
URL:https://affiliate.wcu.edu/comm/event/christmas-day/
CATEGORIES:Holiday
ATTACH;FMTTYPE=image/jpeg:https://affiliate.wcu.edu/comm/wp-content/uploads/sites/187/2018/08/logo-purpleonwhite.jpg
END:VEVENT
BEGIN:VEVENT
DTSTART;VALUE=DATE:20211224
DTEND;VALUE=DATE:20211225
DTSTAMP:20260421T014003
CREATED:20211122T170727Z
LAST-MODIFIED:20211122T170727Z
UID:16822-1640304000-1640390399@affiliate.wcu.edu
SUMMARY:Christmas Eve
DESCRIPTION:
URL:https://affiliate.wcu.edu/comm/event/christmas-eve/
CATEGORIES:Holiday
ATTACH;FMTTYPE=image/jpeg:https://affiliate.wcu.edu/comm/wp-content/uploads/sites/187/2018/08/logo-purpleonwhite.jpg
END:VEVENT
BEGIN:VEVENT
DTSTART;VALUE=DATE:20211218
DTEND;VALUE=DATE:20211219
DTSTAMP:20260421T014003
CREATED:20211122T164507Z
LAST-MODIFIED:20211122T170600Z
UID:16765-1639785600-1639871999@affiliate.wcu.edu
SUMMARY:Fall 2021 Commencement
DESCRIPTION:
URL:https://affiliate.wcu.edu/comm/event/fall-2021-commencement/
LOCATION:Ramsey Center
CATEGORIES:Graduation
ATTACH;FMTTYPE=image/jpeg:https://affiliate.wcu.edu/comm/wp-content/uploads/sites/187/2018/08/logo-purpleonwhite.jpg
END:VEVENT
BEGIN:VEVENT
DTSTART;TZID=UTC:20211217T133000
DTEND;TZID=UTC:20211217T153000
DTSTAMP:20260421T014003
CREATED:20211122T170235Z
LAST-MODIFIED:20211122T170235Z
UID:16807-1639747800-1639755000@affiliate.wcu.edu
SUMMARY:TV Studio Open Hours - CAT 110
DESCRIPTION:
URL:https://affiliate.wcu.edu/comm/event/tv-studio-open-hours-cat-110-16/
LOCATION:CAT 110
CATEGORIES:Studio and Lab Hours,TV Studio Open Hours
ATTACH;FMTTYPE=image/jpeg:https://affiliate.wcu.edu/comm/wp-content/uploads/sites/187/2018/08/logo-purpleonwhite.jpg
END:VEVENT
BEGIN:VEVENT
DTSTART;TZID=UTC:20211217T090000
DTEND;TZID=UTC:20211217T110000
DTSTAMP:20260421T014003
CREATED:20211122T164324Z
LAST-MODIFIED:20211122T164324Z
UID:16763-1639731600-1639738800@affiliate.wcu.edu
SUMMARY:Lab Equipment Checkout - Stillwell 259
DESCRIPTION:
URL:https://affiliate.wcu.edu/comm/event/lab-equipment-checkout-stillwell-259-9/
LOCATION:Stillwell 259
CATEGORIES:Lab Equipment Checkout Hours,Studio and Lab Hours
ATTACH;FMTTYPE=image/jpeg:https://affiliate.wcu.edu/comm/wp-content/uploads/sites/187/2018/08/logo-purpleonwhite.jpg
END:VEVENT
BEGIN:VEVENT
DTSTART;TZID=UTC:20211216T090000
DTEND;TZID=UTC:20211216T110000
DTSTAMP:20260421T014003
CREATED:20211122T170429Z
LAST-MODIFIED:20211122T170429Z
UID:16814-1639645200-1639652400@affiliate.wcu.edu
SUMMARY:Lab Equipment Checkout – Stillwell 259
DESCRIPTION:
URL:https://affiliate.wcu.edu/comm/event/lab-equipment-checkout-stillwell-259-16/
CATEGORIES:Lab Equipment Checkout Hours,Studio and Lab Hours
ATTACH;FMTTYPE=image/jpeg:https://affiliate.wcu.edu/comm/wp-content/uploads/sites/187/2018/08/logo-purpleonwhite.jpg
END:VEVENT
BEGIN:VEVENT
DTSTART;TZID=UTC:20211216T090000
DTEND;TZID=UTC:20211216T110000
DTSTAMP:20260421T014003
CREATED:20211122T170023Z
LAST-MODIFIED:20211122T170023Z
UID:16802-1639645200-1639652400@affiliate.wcu.edu
SUMMARY:TV Studio Open Hours - CAT 110
DESCRIPTION:
URL:https://affiliate.wcu.edu/comm/event/tv-studio-open-hours-cat-110-14/
LOCATION:CAT 110
CATEGORIES:Studio and Lab Hours,TV Studio Open Hours
ATTACH;FMTTYPE=image/jpeg:https://affiliate.wcu.edu/comm/wp-content/uploads/sites/187/2018/08/logo-purpleonwhite.jpg
END:VEVENT
BEGIN:VEVENT
DTSTART;TZID=UTC:20211215T133000
DTEND;TZID=UTC:20211215T153000
DTSTAMP:20260421T014003
CREATED:20211122T165626Z
LAST-MODIFIED:20211122T165626Z
UID:16792-1639575000-1639582200@affiliate.wcu.edu
SUMMARY:TV Studio Open Hours - CAT 110
DESCRIPTION:
URL:https://affiliate.wcu.edu/comm/event/tv-studio-open-hours-cat-110-9/
LOCATION:CAT 110
CATEGORIES:Studio and Lab Hours,TV Studio Open Hours
ATTACH;FMTTYPE=image/jpeg:https://affiliate.wcu.edu/comm/wp-content/uploads/sites/187/2018/08/logo-purpleonwhite.jpg
END:VEVENT
BEGIN:VEVENT
DTSTART;TZID=UTC:20211215T090000
DTEND;TZID=UTC:20211215T110000
DTSTAMP:20260421T014003
CREATED:20211122T164222Z
LAST-MODIFIED:20211122T164242Z
UID:16758-1639558800-1639566000@affiliate.wcu.edu
SUMMARY:Lab Equipment Checkout - Stillwell 259
DESCRIPTION:
URL:https://affiliate.wcu.edu/comm/event/lab-equipment-checkout-stillwell-259-8/
LOCATION:Stillwell 259
CATEGORIES:Lab Equipment Checkout Hours,Studio and Lab Hours
ATTACH;FMTTYPE=image/jpeg:https://affiliate.wcu.edu/comm/wp-content/uploads/sites/187/2018/08/logo-purpleonwhite.jpg
END:VEVENT
BEGIN:VEVENT
DTSTART;TZID=UTC:20211214T090000
DTEND;TZID=UTC:20211214T110000
DTSTAMP:20260421T014003
CREATED:20211122T164647Z
LAST-MODIFIED:20211122T164647Z
UID:16777-1639472400-1639479600@affiliate.wcu.edu
SUMMARY:TV Studio Open Hours - CAT 110
DESCRIPTION:
URL:https://affiliate.wcu.edu/comm/event/tv-studio-open-hours-cat-110-8/
LOCATION:CAT 110
CATEGORIES:Studio and Lab Hours,TV Studio Open Hours
ATTACH;FMTTYPE=image/jpeg:https://affiliate.wcu.edu/comm/wp-content/uploads/sites/187/2018/08/logo-purpleonwhite.jpg
END:VEVENT
BEGIN:VEVENT
DTSTART;TZID=UTC:20211214T080000
DTEND;TZID=UTC:20211214T170000
DTSTAMP:20260421T014003
CREATED:20211122T170339Z
LAST-MODIFIED:20211122T170339Z
UID:16811-1639468800-1639501200@affiliate.wcu.edu
SUMMARY:Lab Equipment Checkout – Stillwell 259
DESCRIPTION:
URL:https://affiliate.wcu.edu/comm/event/lab-equipment-checkout-stillwell-259-15/
LOCATION:Stillwell 259
CATEGORIES:Lab Equipment Checkout Hours,Studio and Lab Hours
ATTACH;FMTTYPE=image/jpeg:https://affiliate.wcu.edu/comm/wp-content/uploads/sites/187/2018/08/logo-purpleonwhite.jpg
END:VEVENT
BEGIN:VEVENT
DTSTART;TZID=UTC:20211213T160000
DTEND;TZID=UTC:20211213T170000
DTSTAMP:20260421T014003
CREATED:20211122T164228Z
LAST-MODIFIED:20211122T164228Z
UID:16759-1639411200-1639414800@affiliate.wcu.edu
SUMMARY:TV Studio Open Hours - CAT 110
DESCRIPTION:
URL:https://affiliate.wcu.edu/comm/event/tv-studio-open-hours-cat-110-4/
LOCATION:CAT 110
CATEGORIES:Studio and Lab Hours,TV Studio Open Hours
ATTACH;FMTTYPE=image/jpeg:https://affiliate.wcu.edu/comm/wp-content/uploads/sites/187/2018/08/logo-purpleonwhite.jpg
END:VEVENT
BEGIN:VEVENT
DTSTART;TZID=UTC:20211213T090000
DTEND;TZID=UTC:20211213T110000
DTSTAMP:20260421T014003
CREATED:20211122T163811Z
LAST-MODIFIED:20211122T163821Z
UID:16752-1639386000-1639393200@affiliate.wcu.edu
SUMMARY:Lab Equipment Checkout - Stillwell 259
DESCRIPTION:
URL:https://affiliate.wcu.edu/comm/event/lab-equipment-checkout-stillwell-259-7/
LOCATION:Stillwell 259
CATEGORIES:Lab Equipment Checkout Hours,Studio and Lab Hours
ATTACH;FMTTYPE=image/jpeg:https://affiliate.wcu.edu/comm/wp-content/uploads/sites/187/2018/08/logo-purpleonwhite.jpg
END:VEVENT
BEGIN:VEVENT
DTSTART;TZID=UTC:20211210T133000
DTEND;TZID=UTC:20211210T153000
DTSTAMP:20260421T014003
CREATED:20211122T170201Z
LAST-MODIFIED:20211122T170201Z
UID:16804-1639143000-1639150200@affiliate.wcu.edu
SUMMARY:TV Studio Open Hours - CAT 110
DESCRIPTION:
URL:https://affiliate.wcu.edu/comm/event/tv-studio-open-hours-cat-110-15/
LOCATION:CAT 110
CATEGORIES:Studio and Lab Hours,TV Studio Open Hours
ATTACH;FMTTYPE=image/jpeg:https://affiliate.wcu.edu/comm/wp-content/uploads/sites/187/2018/08/logo-purpleonwhite.jpg
END:VEVENT
BEGIN:VEVENT
DTSTART;TZID=UTC:20211210T090000
DTEND;TZID=UTC:20211210T110000
DTSTAMP:20260421T014003
CREATED:20211122T163724Z
LAST-MODIFIED:20211122T164125Z
UID:16750-1639126800-1639134000@affiliate.wcu.edu
SUMMARY:Lab Equipment Checkout - Stillwell 259
DESCRIPTION:
URL:https://affiliate.wcu.edu/comm/event/lab-equipment-checkout-stillwell-259-6/
LOCATION:Stillwell 259
CATEGORIES:Lab Equipment Checkout Hours,Studio and Lab Hours
ATTACH;FMTTYPE=image/jpeg:https://affiliate.wcu.edu/comm/wp-content/uploads/sites/187/2018/08/logo-purpleonwhite.jpg
END:VEVENT
BEGIN:VEVENT
DTSTART;TZID=UTC:20211209T170000
DTEND;TZID=UTC:20211209T200000
DTSTAMP:20260421T014003
CREATED:20211122T170441Z
LAST-MODIFIED:20211122T170501Z
UID:16812-1639069200-1639080000@affiliate.wcu.edu
SUMMARY:NBS Holiday Show Recording
DESCRIPTION:
URL:https://affiliate.wcu.edu/comm/event/nbs-holliday-show-recording/
LOCATION:CAT 110
CATEGORIES:Film Shoot,NBS
ATTACH;FMTTYPE=image/jpeg:https://affiliate.wcu.edu/comm/wp-content/uploads/sites/187/2018/08/logo-purpleonwhite.jpg
END:VEVENT
BEGIN:VEVENT
DTSTART;TZID=UTC:20211209T090000
DTEND;TZID=UTC:20211209T110000
DTSTAMP:20260421T014003
CREATED:20211122T170228Z
LAST-MODIFIED:20211122T170228Z
UID:16806-1639040400-1639047600@affiliate.wcu.edu
SUMMARY:Lab Equipment Checkout – Stillwell 259
DESCRIPTION:
URL:https://affiliate.wcu.edu/comm/event/lab-equipment-checkout-stillwell-259-14/
LOCATION:Stillwell 259
CATEGORIES:Lab Equipment Checkout Hours,Studio and Lab Hours
ATTACH;FMTTYPE=image/jpeg:https://affiliate.wcu.edu/comm/wp-content/uploads/sites/187/2018/08/logo-purpleonwhite.jpg
END:VEVENT
BEGIN:VEVENT
DTSTART;TZID=UTC:20211209T090000
DTEND;TZID=UTC:20211209T110000
DTSTAMP:20260421T014003
CREATED:20211122T165952Z
LAST-MODIFIED:20211122T165952Z
UID:16799-1639040400-1639047600@affiliate.wcu.edu
SUMMARY:TV Studio Open Hours - CAT 110
DESCRIPTION:
URL:https://affiliate.wcu.edu/comm/event/tv-studio-open-hours-cat-110-13/
LOCATION:CAT 110
CATEGORIES:Studio and Lab Hours,TV Studio Open Hours
ATTACH;FMTTYPE=image/jpeg:https://affiliate.wcu.edu/comm/wp-content/uploads/sites/187/2018/08/logo-purpleonwhite.jpg
END:VEVENT
BEGIN:VEVENT
DTSTART;TZID=UTC:20211208T133000
DTEND;TZID=UTC:20211208T153000
DTSTAMP:20260421T014003
CREATED:20211122T165546Z
LAST-MODIFIED:20211122T165546Z
UID:16789-1638970200-1638977400@affiliate.wcu.edu
SUMMARY:TV Studio Open Hours - CAT 110
DESCRIPTION:
URL:https://affiliate.wcu.edu/comm/event/tv-studio-open-hours-cat-110-11/
LOCATION:CAT 110
CATEGORIES:Studio and Lab Hours,TV Studio Open Hours
ATTACH;FMTTYPE=image/jpeg:https://affiliate.wcu.edu/comm/wp-content/uploads/sites/187/2018/08/logo-purpleonwhite.jpg
END:VEVENT
BEGIN:VEVENT
DTSTART;TZID=UTC:20211208T090000
DTEND;TZID=UTC:20211208T110000
DTSTAMP:20260421T014003
CREATED:20211122T163654Z
LAST-MODIFIED:20211122T163905Z
UID:16748-1638954000-1638961200@affiliate.wcu.edu
SUMMARY:Lab Equipment Checkout - Stillwell 259
DESCRIPTION:
URL:https://affiliate.wcu.edu/comm/event/lab-equipment-checkout-stillwell-259-5/
LOCATION:Stillwell 259
CATEGORIES:Lab Equipment Checkout Hours,Studio and Lab Hours
ATTACH;FMTTYPE=image/jpeg:https://affiliate.wcu.edu/comm/wp-content/uploads/sites/187/2018/08/logo-purpleonwhite.jpg
END:VEVENT
BEGIN:VEVENT
DTSTART;TZID=UTC:20211207T130000
DTEND;TZID=UTC:20211207T150000
DTSTAMP:20260421T014003
CREATED:20211122T164822Z
LAST-MODIFIED:20211122T170041Z
UID:16779-1638882000-1638889200@affiliate.wcu.edu
SUMMARY:Lab Equipment Checkout – Stillwell 259
DESCRIPTION:
URL:https://affiliate.wcu.edu/comm/event/lab-equipment-checkout-stillwell-259-12/
LOCATION:Stillwell 259
CATEGORIES:Lab Equipment Checkout Hours,Studio and Lab Hours
ATTACH;FMTTYPE=image/jpeg:https://affiliate.wcu.edu/comm/wp-content/uploads/sites/187/2018/08/logo-purpleonwhite.jpg
END:VEVENT
BEGIN:VEVENT
DTSTART;TZID=UTC:20211207T090000
DTEND;TZID=UTC:20211207T110000
DTSTAMP:20260421T014003
CREATED:20211122T164613Z
LAST-MODIFIED:20211122T164613Z
UID:16771-1638867600-1638874800@affiliate.wcu.edu
SUMMARY:TV Studio Open Hours - CAT 110
DESCRIPTION:
URL:https://affiliate.wcu.edu/comm/event/tv-studio-open-hours-cat-110-7/
LOCATION:CAT 110
CATEGORIES:Studio and Lab Hours
ATTACH;FMTTYPE=image/jpeg:https://affiliate.wcu.edu/comm/wp-content/uploads/sites/187/2018/08/logo-purpleonwhite.jpg
END:VEVENT
BEGIN:VEVENT
DTSTART;TZID=UTC:20211206T160000
DTEND;TZID=UTC:20211206T170000
DTSTAMP:20260421T014003
CREATED:20211122T163946Z
LAST-MODIFIED:20211122T163946Z
UID:16755-1638806400-1638810000@affiliate.wcu.edu
SUMMARY:TV Studio Open Hours - CAT 110
DESCRIPTION:
URL:https://affiliate.wcu.edu/comm/event/tv-studio-open-hours-cat-110-3/
LOCATION:CAT 110
CATEGORIES:Studio and Lab Hours,TV Studio Open Hours
ATTACH;FMTTYPE=image/jpeg:https://affiliate.wcu.edu/comm/wp-content/uploads/sites/187/2018/08/logo-purpleonwhite.jpg
END:VEVENT
BEGIN:VEVENT
DTSTART;TZID=UTC:20211206T090000
DTEND;TZID=UTC:20211206T110000
DTSTAMP:20260421T014003
CREATED:20211122T163554Z
LAST-MODIFIED:20211122T163554Z
UID:16746-1638781200-1638788400@affiliate.wcu.edu
SUMMARY:Lab Equipment Checkout - Stillwell 259
DESCRIPTION:
URL:https://affiliate.wcu.edu/comm/event/lab-equipment-checkout-stillwell-259-4/
LOCATION:Stillwell 259
CATEGORIES:Lab Equipment Checkout Hours,Studio and Lab Hours
ATTACH;FMTTYPE=image/jpeg:https://affiliate.wcu.edu/comm/wp-content/uploads/sites/187/2018/08/logo-purpleonwhite.jpg
END:VEVENT
BEGIN:VEVENT
DTSTART;TZID=UTC:20211203T090000
DTEND;TZID=UTC:20211203T110000
DTSTAMP:20260421T014003
CREATED:20211122T162842Z
LAST-MODIFIED:20211122T162941Z
UID:16740-1638522000-1638529200@affiliate.wcu.edu
SUMMARY:Lab Equipment Checkout - Stillwell 259
DESCRIPTION:
URL:https://affiliate.wcu.edu/comm/event/lab-equipment-checkout-stillwell-259-3/
LOCATION:Stillwell 259
CATEGORIES:Lab Equipment Checkout Hours,Studio and Lab Hours
ATTACH;FMTTYPE=image/jpeg:https://affiliate.wcu.edu/comm/wp-content/uploads/sites/187/2018/08/logo-purpleonwhite.jpg
END:VEVENT
BEGIN:VEVENT
DTSTART;VALUE=DATE:20211203
DTEND;VALUE=DATE:20211204
DTSTAMP:20260421T014003
CREATED:20211122T165814Z
LAST-MODIFIED:20211122T165814Z
UID:16794-1638489600-1638575999@affiliate.wcu.edu
SUMMARY:TV Studio Closed for Repairs - CAT 110
DESCRIPTION:
URL:https://affiliate.wcu.edu/comm/event/tv-studio-closed-for-repairs-cat-110/
LOCATION:CAT 110
CATEGORIES:Studio and Lab Hours,TV Studio Open Hours
ATTACH;FMTTYPE=image/jpeg:https://affiliate.wcu.edu/comm/wp-content/uploads/sites/187/2018/08/logo-purpleonwhite.jpg
END:VEVENT
END:VCALENDAR