BEGIN:VCALENDAR
VERSION:2.0
PRODID:-//WCU Comm Department - ECPv6.15.20//NONSGML v1.0//EN
CALSCALE:GREGORIAN
METHOD:PUBLISH
X-ORIGINAL-URL:https://affiliate.wcu.edu/comm
X-WR-CALDESC:Events for WCU Comm Department
REFRESH-INTERVAL;VALUE=DURATION:PT1H
X-Robots-Tag:noindex
X-PUBLISHED-TTL:PT1H
BEGIN:VTIMEZONE
TZID:UTC
BEGIN:STANDARD
TZOFFSETFROM:+0000
TZOFFSETTO:+0000
TZNAME:UTC
DTSTART:20200101T000000
END:STANDARD
END:VTIMEZONE
BEGIN:VEVENT
DTSTART;TZID=UTC:20211130T090000
DTEND;TZID=UTC:20211130T110000
DTSTAMP:20260421T053620
CREATED:20211122T164510Z
LAST-MODIFIED:20211122T164510Z
UID:16767-1638262800-1638270000@affiliate.wcu.edu
SUMMARY:TV Studio Open Hours - CAT 110
DESCRIPTION:
URL:https://affiliate.wcu.edu/comm/event/tv-studio-open-hours-cat-110-6/
LOCATION:CAT 110
CATEGORIES:Studio and Lab Hours,TV Studio Open Hours
ATTACH;FMTTYPE=image/jpeg:https://affiliate.wcu.edu/comm/wp-content/uploads/sites/187/2018/08/logo-purpleonwhite.jpg
END:VEVENT
BEGIN:VEVENT
DTSTART;TZID=UTC:20211129T160000
DTEND;TZID=UTC:20211129T170000
DTSTAMP:20260421T053620
CREATED:20211122T163817Z
LAST-MODIFIED:20211122T163817Z
UID:16745-1638201600-1638205200@affiliate.wcu.edu
SUMMARY:TV Studio Open Hours - CAT 110
DESCRIPTION:
URL:https://affiliate.wcu.edu/comm/event/tv-studio-open-hours-cat-110-2/
LOCATION:CAT 110
CATEGORIES:Studio and Lab Hours,TV Studio Open Hours
ATTACH;FMTTYPE=image/jpeg:https://affiliate.wcu.edu/comm/wp-content/uploads/sites/187/2018/08/logo-purpleonwhite.jpg
END:VEVENT
BEGIN:VEVENT
DTSTART;TZID=UTC:20211129T090000
DTEND;TZID=UTC:20211129T110000
DTSTAMP:20260421T053620
CREATED:20211122T153955Z
LAST-MODIFIED:20211122T161933Z
UID:16735-1638176400-1638183600@affiliate.wcu.edu
SUMMARY:Lab Equipment Checkout - Stillwell 259
DESCRIPTION:
URL:https://affiliate.wcu.edu/comm/event/lab-equipment-checkout-stillwell-259/
LOCATION:Stillwell 259
CATEGORIES:Lab Equipment Checkout Hours,Studio and Lab Hours
ATTACH;FMTTYPE=image/jpeg:https://affiliate.wcu.edu/comm/wp-content/uploads/sites/187/2018/08/logo-purpleonwhite.jpg
END:VEVENT
BEGIN:VEVENT
DTSTART;VALUE=DATE:20211128
DTEND;VALUE=DATE:20211129
DTSTAMP:20260421T053620
CREATED:20211122T170825Z
LAST-MODIFIED:20211122T170825Z
UID:16823-1638057600-1638143999@affiliate.wcu.edu
SUMMARY:Hanukkah
DESCRIPTION:
URL:https://affiliate.wcu.edu/comm/event/hanukkah/
CATEGORIES:Holiday
ATTACH;FMTTYPE=image/jpeg:https://affiliate.wcu.edu/comm/wp-content/uploads/sites/187/2018/08/logo-purpleonwhite.jpg
END:VEVENT
BEGIN:VEVENT
DTSTART;VALUE=DATE:20211126
DTEND;VALUE=DATE:20211127
DTSTAMP:20260421T053620
CREATED:20211122T170530Z
LAST-MODIFIED:20211122T170530Z
UID:16820-1637884800-1637971199@affiliate.wcu.edu
SUMMARY:Black Friday
DESCRIPTION:
URL:https://affiliate.wcu.edu/comm/event/black-friday/
CATEGORIES:Holiday
ATTACH;FMTTYPE=image/jpeg:https://affiliate.wcu.edu/comm/wp-content/uploads/sites/187/2018/08/logo-purpleonwhite.jpg
END:VEVENT
BEGIN:VEVENT
DTSTART;VALUE=DATE:20211125
DTEND;VALUE=DATE:20211126
DTSTAMP:20260421T053620
CREATED:20211122T170512Z
LAST-MODIFIED:20211122T170512Z
UID:16817-1637798400-1637884799@affiliate.wcu.edu
SUMMARY:Thanksgiving Day
DESCRIPTION:
URL:https://affiliate.wcu.edu/comm/event/thanksgiving-day/
CATEGORIES:Holiday
ATTACH;FMTTYPE=image/jpeg:https://affiliate.wcu.edu/comm/wp-content/uploads/sites/187/2018/08/logo-purpleonwhite.jpg
END:VEVENT
BEGIN:VEVENT
DTSTART;TZID=UTC:20211123T130000
DTEND;TZID=UTC:20211123T150000
DTSTAMP:20260421T053620
CREATED:20211122T164611Z
LAST-MODIFIED:20211122T164611Z
UID:16773-1637672400-1637679600@affiliate.wcu.edu
SUMMARY:Lab Equipment Checkout – Stillwell 259
DESCRIPTION:
URL:https://affiliate.wcu.edu/comm/event/lab-equipment-checkout-stillwell-259-10/
LOCATION:Stillwell 259
CATEGORIES:Lab Equipment Checkout Hours,Studio and Lab Hours
ATTACH;FMTTYPE=image/jpeg:https://affiliate.wcu.edu/comm/wp-content/uploads/sites/187/2018/08/logo-purpleonwhite.jpg
END:VEVENT
BEGIN:VEVENT
DTSTART;TZID=UTC:20211123T090000
DTEND;TZID=UTC:20211123T110000
DTSTAMP:20260421T053620
CREATED:20211122T164442Z
LAST-MODIFIED:20211122T164442Z
UID:16762-1637658000-1637665200@affiliate.wcu.edu
SUMMARY:TV Studio Open Hours - CAT 110
DESCRIPTION:
URL:https://affiliate.wcu.edu/comm/event/tv-studio-open-hours-cat-110-5/
LOCATION:CAT 110
CATEGORIES:Studio and Lab Hours,TV Studio Open Hours
ATTACH;FMTTYPE=image/jpeg:https://affiliate.wcu.edu/comm/wp-content/uploads/sites/187/2018/08/logo-purpleonwhite.jpg
END:VEVENT
BEGIN:VEVENT
DTSTART;TZID=UTC:20211122T160000
DTEND;TZID=UTC:20211122T170000
DTSTAMP:20260421T053620
CREATED:20211122T163237Z
LAST-MODIFIED:20211122T164155Z
UID:16742-1637596800-1637600400@affiliate.wcu.edu
SUMMARY:TV Studio Open Hours - CAT 110
DESCRIPTION:
URL:https://affiliate.wcu.edu/comm/event/tv-studio-open-hours-cat-110/
LOCATION:CAT 110
CATEGORIES:Studio and Lab Hours,TV Studio Open Hours
ATTACH;FMTTYPE=image/jpeg:https://affiliate.wcu.edu/comm/wp-content/uploads/sites/187/2018/08/logo-purpleonwhite.jpg
END:VEVENT
BEGIN:VEVENT
DTSTART;TZID=UTC:20211122T090000
DTEND;TZID=UTC:20211122T110000
DTSTAMP:20260421T053620
CREATED:20211122T152335Z
LAST-MODIFIED:20211122T152856Z
UID:16728-1637571600-1637578800@affiliate.wcu.edu
SUMMARY:Lab Equipment Checkout - Stillwell 259
DESCRIPTION:
URL:https://affiliate.wcu.edu/comm/event/lab-equipment-checkout/
LOCATION:Stillwell 259
CATEGORIES:Lab Equipment Checkout Hours,Studio and Lab Hours
ATTACH;FMTTYPE=image/jpeg:https://affiliate.wcu.edu/comm/wp-content/uploads/sites/187/2018/08/logo-purpleonwhite.jpg
END:VEVENT
BEGIN:VEVENT
DTSTART;TZID=UTC:20211118T173000
DTEND;TZID=UTC:20211118T183000
DTSTAMP:20260421T053620
CREATED:20211115T162325Z
LAST-MODIFIED:20211115T162325Z
UID:16698-1637256600-1637260200@affiliate.wcu.edu
SUMMARY:2021 Last Lecture
DESCRIPTION:WCU Communication professor Dr. Candy Noltensmeyer was nominated for the 2020 Faculty of the Year Award\, which is the only award decided solely by students at Western. Because of her nomination\, Noltensmeyer will deliver the 2021 Last Lecture on Thursday\, Nov. 18 at 5:30 p.m. in the University Center Theatre. For more information\, visit https://affiliate.wcu.edu/comm/blog/2021/11/13/communication-pr…f-the-year-award/ .
URL:https://affiliate.wcu.edu/comm/event/2021-last-lecture/
LOCATION:University Center Theatre
ATTACH;FMTTYPE=image/png:https://affiliate.wcu.edu/comm/wp-content/uploads/sites/187/2021/11/Last-Lecture-Flyer-2-Twitter-Post.png
END:VEVENT
BEGIN:VEVENT
DTSTART;TZID=UTC:20210922T163000
DTEND;TZID=UTC:20210922T173000
DTSTAMP:20260421T053620
CREATED:20210909T185140Z
LAST-MODIFIED:20210909T185140Z
UID:16518-1632328200-1632331800@affiliate.wcu.edu
SUMMARY:PRSSA Interest Meeting
DESCRIPTION:PRSSA is a great opportunity for ALL students! Members can participate in outings and events that will help them for their future. For more information\, you can attend the interest meeting on Wednesday\, Sept. 22 at 4:30 p.m. in Stillwell 244.
URL:https://affiliate.wcu.edu/comm/event/prssa-interest-meeting/
LOCATION:Stillwell 244
CATEGORIES:Interest Meeting,Meetings,PRSSA
ATTACH;FMTTYPE=image/jpeg:https://affiliate.wcu.edu/comm/wp-content/uploads/sites/187/2021/09/061401A4-6BDB-417B-A2E1-25F264092101-WCU-PRSSA.jpeg
END:VEVENT
BEGIN:VEVENT
DTSTART;TZID=UTC:20210916T173000
DTEND;TZID=UTC:20210916T183000
DTSTAMP:20260421T053620
CREATED:20210909T184201Z
LAST-MODIFIED:20210909T184736Z
UID:16477-1631813400-1631817000@affiliate.wcu.edu
SUMMARY:AP Style Workshop
DESCRIPTION:Join SPJ for their first event and meeting of this year! Bring your AP books if you have them and come willing to learn and have fun! Thursday\, Sept. 16 at 5:30 p.m. in Killian 219.
URL:https://affiliate.wcu.edu/comm/event/ap-style-workshop/
LOCATION:Killian 219\, 91 Killian Building Lane\, Cullowhee\, NC\, 28723\, United States
CATEGORIES:Interest Meeting,Meetings,SPJ,Student Organizations,Workshop
ATTACH;FMTTYPE=image/png:https://affiliate.wcu.edu/comm/wp-content/uploads/sites/187/2021/08/SPJ-AP-Workshop-flyer-IG-post.png
ORGANIZER;CN="Society of Professional Journalists - WCU Chapter":MAILTO:wcuspj@gmail.com
END:VEVENT
BEGIN:VEVENT
DTSTART;TZID=UTC:20210909T180000
DTEND;TZID=UTC:20210909T190000
DTSTAMP:20260421T053620
CREATED:20210909T184124Z
LAST-MODIFIED:20210909T184124Z
UID:16483-1631210400-1631214000@affiliate.wcu.edu
SUMMARY:National Broadcast Society Interest Meeting
DESCRIPTION:Meet fellow broadcasting students. Develop video and studio production skills. Create your own program! The National Broadcast Society (NBS) callout meeting is on Thursday\, September 9\, at 6 p.m. in Killian 219. Everyone welcome!
URL:https://affiliate.wcu.edu/comm/event/national-broadcast-society-interest-meeting/
LOCATION:Killian 219\, 91 Killian Building Lane\, Cullowhee\, NC\, 28723\, United States
CATEGORIES:Interest Meeting,Meetings,NBS,Student Organizations
ATTACH;FMTTYPE=image/jpeg:https://affiliate.wcu.edu/comm/wp-content/uploads/sites/187/2021/08/NBS-Interst-meeting-.jpg
END:VEVENT
END:VCALENDAR