BEGIN:VCALENDAR
VERSION:2.0
PRODID:-//WCU Comm Department - ECPv6.15.20//NONSGML v1.0//EN
CALSCALE:GREGORIAN
METHOD:PUBLISH
X-ORIGINAL-URL:https://affiliate.wcu.edu/comm
X-WR-CALDESC:Events for WCU Comm Department
REFRESH-INTERVAL;VALUE=DURATION:PT1H
X-Robots-Tag:noindex
X-PUBLISHED-TTL:PT1H
BEGIN:VTIMEZONE
TZID:UTC
BEGIN:STANDARD
TZOFFSETFROM:+0000
TZOFFSETTO:+0000
TZNAME:UTC
DTSTART:20210101T000000
END:STANDARD
END:VTIMEZONE
BEGIN:VEVENT
DTSTART;VALUE=DATE:20220417
DTEND;VALUE=DATE:20220418
DTSTAMP:20260420T113431
CREATED:20220321T154749Z
LAST-MODIFIED:20220321T154749Z
UID:17406-1650153600-1650239999@affiliate.wcu.edu
SUMMARY:Easter
DESCRIPTION:
URL:https://affiliate.wcu.edu/comm/event/easter/
ATTACH;FMTTYPE=image/jpeg:https://affiliate.wcu.edu/comm/wp-content/uploads/sites/187/2018/08/logo-purpleonwhite.jpg
END:VEVENT
BEGIN:VEVENT
DTSTART;VALUE=DATE:20220415
DTEND;VALUE=DATE:20220416
DTSTAMP:20260420T113431
CREATED:20220321T154829Z
LAST-MODIFIED:20220321T154829Z
UID:17410-1649980800-1650067199@affiliate.wcu.edu
SUMMARY:Good Friday
DESCRIPTION:
URL:https://affiliate.wcu.edu/comm/event/good-friday/
ATTACH;FMTTYPE=image/jpeg:https://affiliate.wcu.edu/comm/wp-content/uploads/sites/187/2018/08/logo-purpleonwhite.jpg
END:VEVENT
BEGIN:VEVENT
DTSTART;VALUE=DATE:20220413
DTEND;VALUE=DATE:20220416
DTSTAMP:20260420T113431
CREATED:20220126T202703Z
LAST-MODIFIED:20220126T202703Z
UID:17071-1649808000-1650067199@affiliate.wcu.edu
SUMMARY:No Classes
DESCRIPTION:
URL:https://affiliate.wcu.edu/comm/event/no-classes/
CATEGORIES:Holiday
ATTACH;FMTTYPE=image/jpeg:https://affiliate.wcu.edu/comm/wp-content/uploads/sites/187/2018/08/logo-purpleonwhite.jpg
END:VEVENT
BEGIN:VEVENT
DTSTART;TZID=UTC:20220412T153000
DTEND;TZID=UTC:20220412T173000
DTSTAMP:20260420T113431
CREATED:20220316T185011Z
LAST-MODIFIED:20220316T185011Z
UID:17275-1649777400-1649784600@affiliate.wcu.edu
SUMMARY:Lab Equipment Checkout - Stillwell 259
DESCRIPTION:
URL:https://affiliate.wcu.edu/comm/event/lab-equipment-checkout-stillwell-259-76/
LOCATION:Stillwell 259
CATEGORIES:Lab Equipment Checkout Hours,Studio and Lab Hours
ATTACH;FMTTYPE=image/jpeg:https://affiliate.wcu.edu/comm/wp-content/uploads/sites/187/2018/08/logo-purpleonwhite.jpg
END:VEVENT
BEGIN:VEVENT
DTSTART;TZID=UTC:20220412T140000
DTEND;TZID=UTC:20220412T160000
DTSTAMP:20260420T113431
CREATED:20220316T190622Z
LAST-MODIFIED:20220316T190622Z
UID:17322-1649772000-1649779200@affiliate.wcu.edu
SUMMARY:TV Studio Open Hours – CAT 110
DESCRIPTION:
URL:https://affiliate.wcu.edu/comm/event/tv-studio-open-hours-cat-110-53/
LOCATION:CAT 110
CATEGORIES:Studio and Lab Hours,TV Studio Open Hours
ATTACH;FMTTYPE=image/jpeg:https://affiliate.wcu.edu/comm/wp-content/uploads/sites/187/2018/08/logo-purpleonwhite.jpg
END:VEVENT
BEGIN:VEVENT
DTSTART;TZID=UTC:20220411T123000
DTEND;TZID=UTC:20220411T143000
DTSTAMP:20260420T113431
CREATED:20220316T184710Z
LAST-MODIFIED:20220316T184710Z
UID:17263-1649680200-1649687400@affiliate.wcu.edu
SUMMARY:Lab Equipment Checkout - Stillwell 259
DESCRIPTION:
URL:https://affiliate.wcu.edu/comm/event/lab-equipment-checkout-stillwell-259-70/
LOCATION:Stillwell 259
CATEGORIES:Lab Equipment Checkout Hours,Studio and Lab Hours
ATTACH;FMTTYPE=image/jpeg:https://affiliate.wcu.edu/comm/wp-content/uploads/sites/187/2018/08/logo-purpleonwhite.jpg
END:VEVENT
BEGIN:VEVENT
DTSTART;TZID=UTC:20220411T100000
DTEND;TZID=UTC:20220411T120000
DTSTAMP:20260420T113431
CREATED:20220316T184631Z
LAST-MODIFIED:20220316T184631Z
UID:17261-1649671200-1649678400@affiliate.wcu.edu
SUMMARY:Lab Equipment Checkout - Stillwell 259
DESCRIPTION:
URL:https://affiliate.wcu.edu/comm/event/lab-equipment-checkout-stillwell-259-69/
LOCATION:Stillwell 259
CATEGORIES:Lab Equipment Checkout Hours,Studio and Lab Hours
ATTACH;FMTTYPE=image/jpeg:https://affiliate.wcu.edu/comm/wp-content/uploads/sites/187/2018/08/logo-purpleonwhite.jpg
END:VEVENT
BEGIN:VEVENT
DTSTART;TZID=UTC:20220411T090000
DTEND;TZID=UTC:20220411T110000
DTSTAMP:20260420T113431
CREATED:20220316T190441Z
LAST-MODIFIED:20220316T190441Z
UID:17314-1649667600-1649674800@affiliate.wcu.edu
SUMMARY:TV Studio Open Hours – CAT 110
DESCRIPTION:
URL:https://affiliate.wcu.edu/comm/event/tv-studio-open-hours-cat-110-49/
LOCATION:CAT 110
CATEGORIES:Lab Equipment Checkout Hours,Studio and Lab Hours
ATTACH;FMTTYPE=image/jpeg:https://affiliate.wcu.edu/comm/wp-content/uploads/sites/187/2018/08/logo-purpleonwhite.jpg
END:VEVENT
BEGIN:VEVENT
DTSTART;TZID=UTC:20220408T110000
DTEND;TZID=UTC:20220408T130000
DTSTAMP:20260420T113431
CREATED:20220316T191237Z
LAST-MODIFIED:20220316T191237Z
UID:17343-1649415600-1649422800@affiliate.wcu.edu
SUMMARY:TV Studio Open Hours – CAT 110
DESCRIPTION:
URL:https://affiliate.wcu.edu/comm/event/tv-studio-open-hours-cat-110-77/
LOCATION:CAT 110
CATEGORIES:Studio and Lab Hours,TV Studio Open Hours
ATTACH;FMTTYPE=image/jpeg:https://affiliate.wcu.edu/comm/wp-content/uploads/sites/187/2018/08/logo-purpleonwhite.jpg
END:VEVENT
BEGIN:VEVENT
DTSTART;TZID=UTC:20220408T100000
DTEND;TZID=UTC:20220408T120000
DTSTAMP:20260420T113431
CREATED:20220316T190151Z
LAST-MODIFIED:20220316T190151Z
UID:17305-1649412000-1649419200@affiliate.wcu.edu
SUMMARY:Lab Equipment Checkout - Stillwell 259
DESCRIPTION:
URL:https://affiliate.wcu.edu/comm/event/lab-equipment-checkout-stillwell-259-85/
LOCATION:Stillwell 259
CATEGORIES:Lab Equipment Checkout Hours,Studio and Lab Hours
ATTACH;FMTTYPE=image/jpeg:https://affiliate.wcu.edu/comm/wp-content/uploads/sites/187/2018/08/logo-purpleonwhite.jpg
END:VEVENT
BEGIN:VEVENT
DTSTART;TZID=UTC:20220407T153000
DTEND;TZID=UTC:20220407T173000
DTSTAMP:20260420T113431
CREATED:20220316T185924Z
LAST-MODIFIED:20220316T185924Z
UID:17297-1649345400-1649352600@affiliate.wcu.edu
SUMMARY:Lab Equipment Checkout - Stillwell 259
DESCRIPTION:
URL:https://affiliate.wcu.edu/comm/event/lab-equipment-checkout-stillwell-259-79/
LOCATION:Stillwell 259
CATEGORIES:Lab Equipment Checkout Hours,Studio and Lab Hours
ATTACH;FMTTYPE=image/jpeg:https://affiliate.wcu.edu/comm/wp-content/uploads/sites/187/2018/08/logo-purpleonwhite.jpg
END:VEVENT
BEGIN:VEVENT
DTSTART;TZID=UTC:20220407T140000
DTEND;TZID=UTC:20220407T160000
DTSTAMP:20260420T113431
CREATED:20220316T190956Z
LAST-MODIFIED:20220316T190956Z
UID:17334-1649340000-1649347200@affiliate.wcu.edu
SUMMARY:TV Studio Open Hours – CAT 110
DESCRIPTION:
URL:https://affiliate.wcu.edu/comm/event/tv-studio-open-hours-cat-110-73/
LOCATION:CAT 110
CATEGORIES:Studio and Lab Hours,TV Studio Open Hours
ATTACH;FMTTYPE=image/jpeg:https://affiliate.wcu.edu/comm/wp-content/uploads/sites/187/2018/08/logo-purpleonwhite.jpg
END:VEVENT
BEGIN:VEVENT
DTSTART;TZID=UTC:20220406T123000
DTEND;TZID=UTC:20220406T143000
DTSTAMP:20260420T113431
CREATED:20220316T185219Z
LAST-MODIFIED:20220316T185219Z
UID:17283-1649248200-1649255400@affiliate.wcu.edu
SUMMARY:Lab Equipment Checkout - Stillwell 259
DESCRIPTION:
URL:https://affiliate.wcu.edu/comm/event/lab-equipment-checkout-stillwell-259-80/
LOCATION:Stillwell 259
CATEGORIES:Lab Equipment Checkout Hours,Studio and Lab Hours
ATTACH;FMTTYPE=image/jpeg:https://affiliate.wcu.edu/comm/wp-content/uploads/sites/187/2018/08/logo-purpleonwhite.jpg
END:VEVENT
BEGIN:VEVENT
DTSTART;TZID=UTC:20220406T090000
DTEND;TZID=UTC:20220406T110000
DTSTAMP:20260420T113431
CREATED:20220316T190745Z
LAST-MODIFIED:20220316T190745Z
UID:17328-1649235600-1649242800@affiliate.wcu.edu
SUMMARY:TV Studio Open Hours – CAT 110
DESCRIPTION:
URL:https://affiliate.wcu.edu/comm/event/tv-studio-open-hours-cat-110-70/
LOCATION:CAT 110
CATEGORIES:Studio and Lab Hours,TV Studio Open Hours
ATTACH;FMTTYPE=image/jpeg:https://affiliate.wcu.edu/comm/wp-content/uploads/sites/187/2018/08/logo-purpleonwhite.jpg
END:VEVENT
BEGIN:VEVENT
DTSTART;TZID=UTC:20220405T153000
DTEND;TZID=UTC:20220405T173000
DTSTAMP:20260420T113431
CREATED:20220316T184939Z
LAST-MODIFIED:20220316T184939Z
UID:17273-1649172600-1649179800@affiliate.wcu.edu
SUMMARY:Lab Equipment Checkout - Stillwell 259
DESCRIPTION:
URL:https://affiliate.wcu.edu/comm/event/lab-equipment-checkout-stillwell-259-75/
LOCATION:Stillwell 259
CATEGORIES:Lab Equipment Checkout Hours,Studio and Lab Hours
ATTACH;FMTTYPE=image/jpeg:https://affiliate.wcu.edu/comm/wp-content/uploads/sites/187/2018/08/logo-purpleonwhite.jpg
END:VEVENT
BEGIN:VEVENT
DTSTART;TZID=UTC:20220405T140000
DTEND;TZID=UTC:20220405T160000
DTSTAMP:20260420T113431
CREATED:20220316T190555Z
LAST-MODIFIED:20220316T190555Z
UID:17320-1649167200-1649174400@affiliate.wcu.edu
SUMMARY:TV Studio Open Hours – CAT 110
DESCRIPTION:
URL:https://affiliate.wcu.edu/comm/event/tv-studio-open-hours-cat-110-52/
LOCATION:CAT 110
CATEGORIES:Studio and Lab Hours,TV Studio Open Hours
ATTACH;FMTTYPE=image/jpeg:https://affiliate.wcu.edu/comm/wp-content/uploads/sites/187/2018/08/logo-purpleonwhite.jpg
END:VEVENT
BEGIN:VEVENT
DTSTART;TZID=UTC:20220404T123000
DTEND;TZID=UTC:20220404T143000
DTSTAMP:20260420T113431
CREATED:20220316T184546Z
LAST-MODIFIED:20220316T184546Z
UID:17259-1649075400-1649082600@affiliate.wcu.edu
SUMMARY:Lab Equipment Checkout - Stillwell 259
DESCRIPTION:
URL:https://affiliate.wcu.edu/comm/event/lab-equipment-checkout-stillwell-259-68/
LOCATION:Stillwell 259
CATEGORIES:Lab Equipment Checkout Hours,Studio and Lab Hours
ATTACH;FMTTYPE=image/jpeg:https://affiliate.wcu.edu/comm/wp-content/uploads/sites/187/2018/08/logo-purpleonwhite.jpg
END:VEVENT
BEGIN:VEVENT
DTSTART;TZID=UTC:20220404T100000
DTEND;TZID=UTC:20220404T120000
DTSTAMP:20260420T113431
CREATED:20220316T184514Z
LAST-MODIFIED:20220316T184514Z
UID:17257-1649066400-1649073600@affiliate.wcu.edu
SUMMARY:Lab Equipment Checkout - Stillwell 259
DESCRIPTION:
URL:https://affiliate.wcu.edu/comm/event/lab-equipment-checkout-stillwell-259-50/
LOCATION:Stillwell 259
CATEGORIES:Lab Equipment Checkout Hours,Studio and Lab Hours
ATTACH;FMTTYPE=image/jpeg:https://affiliate.wcu.edu/comm/wp-content/uploads/sites/187/2018/08/logo-purpleonwhite.jpg
END:VEVENT
BEGIN:VEVENT
DTSTART;TZID=UTC:20220404T090000
DTEND;TZID=UTC:20220404T110000
DTSTAMP:20260420T113431
CREATED:20220316T190420Z
LAST-MODIFIED:20220316T190420Z
UID:17312-1649062800-1649070000@affiliate.wcu.edu
SUMMARY:TV Studio Open Hours – CAT 110
DESCRIPTION:
URL:https://affiliate.wcu.edu/comm/event/tv-studio-open-hours-cat-110-40/
LOCATION:CAT 110
CATEGORIES:Lab Equipment Checkout Hours,Studio and Lab Hours
ATTACH;FMTTYPE=image/jpeg:https://affiliate.wcu.edu/comm/wp-content/uploads/sites/187/2018/08/logo-purpleonwhite.jpg
END:VEVENT
BEGIN:VEVENT
DTSTART;TZID=UTC:20220401T110000
DTEND;TZID=UTC:20220401T130000
DTSTAMP:20260420T113431
CREATED:20220316T191211Z
LAST-MODIFIED:20220316T191211Z
UID:17341-1648810800-1648818000@affiliate.wcu.edu
SUMMARY:TV Studio Open Hours – CAT 110
DESCRIPTION:
URL:https://affiliate.wcu.edu/comm/event/tv-studio-open-hours-cat-110-76/
LOCATION:CAT 110
CATEGORIES:Studio and Lab Hours,TV Studio Open Hours
ATTACH;FMTTYPE=image/jpeg:https://affiliate.wcu.edu/comm/wp-content/uploads/sites/187/2018/08/logo-purpleonwhite.jpg
END:VEVENT
BEGIN:VEVENT
DTSTART;TZID=UTC:20220401T100000
DTEND;TZID=UTC:20220401T120000
DTSTAMP:20260420T113431
CREATED:20220316T190117Z
LAST-MODIFIED:20220316T190117Z
UID:17303-1648807200-1648814400@affiliate.wcu.edu
SUMMARY:Lab Equipment Checkout - Stillwell 259
DESCRIPTION:
URL:https://affiliate.wcu.edu/comm/event/lab-equipment-checkout-stillwell-259-83/
LOCATION:Stillwell 259
CATEGORIES:Lab Equipment Checkout Hours,Studio and Lab Hours
ATTACH;FMTTYPE=image/jpeg:https://affiliate.wcu.edu/comm/wp-content/uploads/sites/187/2018/08/logo-purpleonwhite.jpg
END:VEVENT
BEGIN:VEVENT
DTSTART;VALUE=DATE:20220401
DTEND;VALUE=DATE:20220402
DTSTAMP:20260420T113431
CREATED:20220321T154810Z
LAST-MODIFIED:20220321T154810Z
UID:17408-1648771200-1648857599@affiliate.wcu.edu
SUMMARY:April Fool's Day
DESCRIPTION:
URL:https://affiliate.wcu.edu/comm/event/april-fools-day/
ATTACH;FMTTYPE=image/jpeg:https://affiliate.wcu.edu/comm/wp-content/uploads/sites/187/2018/08/logo-purpleonwhite.jpg
END:VEVENT
BEGIN:VEVENT
DTSTART;TZID=UTC:20220331T153000
DTEND;TZID=UTC:20220331T173000
DTSTAMP:20260420T113431
CREATED:20220129T040407Z
LAST-MODIFIED:20220129T040407Z
UID:17118-1648740600-1648747800@affiliate.wcu.edu
SUMMARY:Lab Equipment Checkout - Stillwell 259
DESCRIPTION:
URL:https://affiliate.wcu.edu/comm/event/lab-equipment-checkout-stillwell-259-67/
LOCATION:Stillwell 259
CATEGORIES:Lab Equipment Checkout Hours,Studio and Lab Hours
ATTACH;FMTTYPE=image/jpeg:https://affiliate.wcu.edu/comm/wp-content/uploads/sites/187/2018/08/logo-purpleonwhite.jpg
END:VEVENT
BEGIN:VEVENT
DTSTART;TZID=UTC:20220331T140000
DTEND;TZID=UTC:20220331T160000
DTSTAMP:20260420T113431
CREATED:20220129T041814Z
LAST-MODIFIED:20220129T041814Z
UID:17165-1648735200-1648742400@affiliate.wcu.edu
SUMMARY:TV Studio Open Hours – CAT 110
DESCRIPTION:
URL:https://affiliate.wcu.edu/comm/event/tv-studio-open-hours-cat-110-67/
LOCATION:CAT 110
CATEGORIES:Studio and Lab Hours,TV Studio Open Hours
ATTACH;FMTTYPE=image/jpeg:https://affiliate.wcu.edu/comm/wp-content/uploads/sites/187/2018/08/logo-purpleonwhite.jpg
END:VEVENT
BEGIN:VEVENT
DTSTART;TZID=UTC:20220330T123000
DTEND;TZID=UTC:20220330T143000
DTSTAMP:20260420T113431
CREATED:20220129T040308Z
LAST-MODIFIED:20220221T164255Z
UID:17116-1648643400-1648650600@affiliate.wcu.edu
SUMMARY:Lab Equipment Checkout - Stillwell 259
DESCRIPTION:
URL:https://affiliate.wcu.edu/comm/event/lab-equipment-checkout-stillwell-259-66/
LOCATION:Stillwell 259
CATEGORIES:Lab Equipment Checkout Hours,Studio and Lab Hours
ATTACH;FMTTYPE=image/jpeg:https://affiliate.wcu.edu/comm/wp-content/uploads/sites/187/2018/08/logo-purpleonwhite.jpg
END:VEVENT
BEGIN:VEVENT
DTSTART;TZID=UTC:20220330T090000
DTEND;TZID=UTC:20220330T110000
DTSTAMP:20260420T113431
CREATED:20220129T041749Z
LAST-MODIFIED:20220129T041749Z
UID:17163-1648630800-1648638000@affiliate.wcu.edu
SUMMARY:TV Studio Open Hours – CAT 110
DESCRIPTION:
URL:https://affiliate.wcu.edu/comm/event/tv-studio-open-hours-cat-110-66/
LOCATION:CAT 110
CATEGORIES:Studio and Lab Hours,TV Studio Open Hours
ATTACH;FMTTYPE=image/jpeg:https://affiliate.wcu.edu/comm/wp-content/uploads/sites/187/2018/08/logo-purpleonwhite.jpg
END:VEVENT
BEGIN:VEVENT
DTSTART;TZID=UTC:20220329T153000
DTEND;TZID=UTC:20220329T173000
DTSTAMP:20260420T113431
CREATED:20220129T040230Z
LAST-MODIFIED:20220129T040238Z
UID:17114-1648567800-1648575000@affiliate.wcu.edu
SUMMARY:Lab Equipment Checkout - Stillwell 259
DESCRIPTION:
URL:https://affiliate.wcu.edu/comm/event/lab-equipment-checkout-stillwell-259-65/
LOCATION:Stillwell 259
CATEGORIES:Lab Equipment Checkout Hours,Studio and Lab Hours
ATTACH;FMTTYPE=image/jpeg:https://affiliate.wcu.edu/comm/wp-content/uploads/sites/187/2018/08/logo-purpleonwhite.jpg
END:VEVENT
BEGIN:VEVENT
DTSTART;TZID=UTC:20220329T140000
DTEND;TZID=UTC:20220329T160000
DTSTAMP:20260420T113431
CREATED:20220129T041719Z
LAST-MODIFIED:20220129T041719Z
UID:17161-1648562400-1648569600@affiliate.wcu.edu
SUMMARY:TV Studio Open Hours – CAT 110
DESCRIPTION:
URL:https://affiliate.wcu.edu/comm/event/tv-studio-open-hours-cat-110-65/
LOCATION:CAT 110
CATEGORIES:Studio and Lab Hours,TV Studio Open Hours
ATTACH;FMTTYPE=image/jpeg:https://affiliate.wcu.edu/comm/wp-content/uploads/sites/187/2018/08/logo-purpleonwhite.jpg
END:VEVENT
BEGIN:VEVENT
DTSTART;TZID=UTC:20220328T123000
DTEND;TZID=UTC:20220328T143000
DTSTAMP:20260420T113431
CREATED:20220221T163115Z
LAST-MODIFIED:20220221T163115Z
UID:17213-1648470600-1648477800@affiliate.wcu.edu
SUMMARY:Lab Equipment Checkout - Stillwell 259
DESCRIPTION:
URL:https://affiliate.wcu.edu/comm/event/lab-equipment-checkout-stillwell-259-53/
LOCATION:Stillwell 259
CATEGORIES:Lab Equipment Checkout Hours,Studio and Lab Hours
ATTACH;FMTTYPE=image/jpeg:https://affiliate.wcu.edu/comm/wp-content/uploads/sites/187/2018/08/logo-purpleonwhite.jpg
END:VEVENT
BEGIN:VEVENT
DTSTART;TZID=UTC:20220328T100000
DTEND;TZID=UTC:20220328T120000
DTSTAMP:20260420T113431
CREATED:20220129T040203Z
LAST-MODIFIED:20220221T162638Z
UID:17112-1648461600-1648468800@affiliate.wcu.edu
SUMMARY:Lab Equipment Checkout - Stillwell 259
DESCRIPTION:
URL:https://affiliate.wcu.edu/comm/event/lab-equipment-checkout-stillwell-259-64/
LOCATION:Stillwell 259
CATEGORIES:Lab Equipment Checkout Hours,Studio and Lab Hours
ATTACH;FMTTYPE=image/jpeg:https://affiliate.wcu.edu/comm/wp-content/uploads/sites/187/2018/08/logo-purpleonwhite.jpg
END:VEVENT
END:VCALENDAR